Workbook

Sheet Rotina Diária
A1: ID | B1: Data | C1: Pessoa | D1: Cidade | E1: Categoria | F1: Atividade | G1: Horário planejado | H1: Horário realizado | I1: Duração planejada (min) | J1: Duração real (min) | K1: Status | L1: Prioridade | M1: Peso da prioridade | N1: Concluída? | O1: Atrasou? | P1: Observações
A2: 1 | B2: 46266 | C2: João Silva | D2: São Paulo | E2: Saúde | F2: Tomar café da manhã | G2: 0.29166667 | H2: 0.29513889 | I2: 20 | J2: 25 | K2: Concluída | L2: Alta | M2: =IF(A2="","",IFERROR(VLOOKUP(L2,'Listas'!$A$2:$B$4,2,FALSE),0)) | N2: =IF(A2="","",IF(K2="Concluída",1,0)) | O2: =IF(A2="","",IF(K2="Pendente","Pendente",IF(AND(K2="Concluída",H2>G2),"Sim","Não"))) | P2: Café preparado em casa.
A3: 2 | B3: 46266 | C3: Maria Oliveira | D3: Rio de Janeiro | E3: Exercícios | F3: Caminhada | G3: 0.27083333 | H3: 0.27083333 | I3: 40 | J3: 40 | K3: Concluída | L3: Alta | M3: =IF(A3="","",IFERROR(VLOOKUP(L3,'Listas'!$A$2:$B$4,2,FALSE),0)) | N3: =IF(A3="","",IF(K3="Concluída",1,0)) | O3: =IF(A3="","",IF(K3="Pendente","Pendente",IF(AND(K3="Concluída",H3>G3),"Sim","Não"))) | P3: Caminhada no calçadão.
A4: 3 | B4: 46267 | C4: Pedro Santos | D4: Belo Horizonte | E4: Trabalho/Estudo | F4: Estudar | G4: 0.79166667 | H4: 0.79861111 | I4: 60 | J4: 55 | K4: Concluída | L4: Alta | M4: =IF(A4="","",IFERROR(VLOOKUP(L4,'Listas'!$A$2:$B$4,2,FALSE),0)) | N4: =IF(A4="","",IF(K4="Concluída",1,0)) | O4: =IF(A4="","",IF(K4="Pendente","Pendente",IF(AND(K4="Concluída",H4>G4),"Sim","Não"))) | P4: Revisão para a prova.
A5: 4 | B5: 46268 | C5: Ana Souza | D5: Curitiba | E5: Trabalho/Estudo | F5: Trabalhar | G5: 0.33333333 | H5: 0.33333333 | I5: 480 | J5: 480 | K5: Concluída | L5: Alta | M5: =IF(A5="","",IFERROR(VLOOKUP(L5,'Listas'!$A$2:$B$4,2,FALSE),0)) | N5: =IF(A5="","",IF(K5="Concluída",1,0)) | O5: =IF(A5="","",IF(K5="Pendente","Pendente",IF(AND(K5="Concluída",H5>G5),"Sim","Não"))) | P5: Reuniões e entregas do dia.
A6: 5 | B6: 46269 | C6: Carlos Pereira | D6: Porto Alegre | E6: Finanças | F6: Pagar conta de luz | G6: 0.52083333 | I6: 15 | K6: Pendente | L6: Alta | M6: =IF(A6="","",IFERROR(VLOOKUP(L6,'Listas'!$A$2:$B$4,2,FALSE),0)) | N6: =IF(A6="","",IF(K6="Concluída",1,0)) | O6: =IF(A6="","",IF(K6="Pendente","Pendente",IF(AND(K6="Concluída",H6>G6),"Sim","Não"))) | P6: Aguardando segunda via da fatura.
A7: 6 | B7: 46270 | C7: Juliana Costa | D7: Salvador | E7: Casa | F7: Organizar a casa | G7: 0.375 | H7: 0.39236111 | I7: 90 | J7: 95 | K7: Concluída | L7: Média | M7: =IF(A7="","",IFERROR(VLOOKUP(L7,'Listas'!$A$2:$B$4,2,FALSE),0)) | N7: =IF(A7="","",IF(K7="Concluída",1,0)) | O7: =IF(A7="","",IF(K7="Pendente","Pendente",IF(AND(K7="Concluída",H7>G7),"Sim","Não"))) | P7: Separação de roupas e limpeza.
A8: 7 | B8: 46271 | C8: Rafael Almeida | D8: Recife | E8: Saúde | F8: Consulta médica | G8: 0.625 | H8: 0.62152778 | I8: 60 | J8: 60 | K8: Concluída | L8: Alta | M8: =IF(A8="","",IFERROR(VLOOKUP(L8,'Listas'!$A$2:$B$4,2,FALSE),0)) | N8: =IF(A8="","",IF(K8="Concluída",1,0)) | O8: =IF(A8="","",IF(K8="Pendente","Pendente",IF(AND(K8="Concluída",H8>G8),"Sim","Não"))) | P8: Consulta de rotina realizada.
A9: 8 | B9: 46272 | C9: Camila Ferreira | D9: Fortaleza | E9: Família | F9: Preparar jantar | G9: 0.75 | I9: 50 | K9: Pendente | L9: Média | M9: =IF(A9="","",IFERROR(VLOOKUP(L9,'Listas'!$A$2:$B$4,2,FALSE),0)) | N9: =IF(A9="","",IF(K9="Concluída",1,0)) | O9: =IF(A9="","",IF(K9="Pendente","Pendente",IF(AND(K9="Concluída",H9>G9),"Sim","Não"))) | P9: Planejar cardápio antes de começar.
A10: 9 | B10: 46273 | C10: Lucas Rodrigues | D10: Brasília | E10: Lazer | F10: Leitura | G10: 0.83333333 | H10: 0.84027778 | I10: 45 | J10: 50 | K10: Concluída | L10: Baixa | M10: =IF(A10="","",IFERROR(VLOOKUP(L10,'Listas'!$A$2:$B$4,2,FALSE),0)) | N10: =IF(A10="","",IF(K10="Concluída",1,0)) | O10: =IF(A10="","",IF(K10="Pendente","Pendente",IF(AND(K10="Concluída",H10>G10),"Sim","Não"))) | P10: Leitura de livro de ficção.
A11: 10 | B11: 46273 | C11: Fernanda Lima | D11: Campinas | E11: Trabalho/Estudo | F11: Planejamento do dia seguinte | G11: 0.75 | I11: 30 | K11: Em andamento | L11: Média | M11: =IF(A11="","",IFERROR(VLOOKUP(L11,'Listas'!$A$2:$B$4,2,FALSE),0)) | N11: =IF(A11="","",IF(K11="Concluída",1,0)) | O11: =IF(A11="","",IF(K11="Pendente","Pendente",IF(AND(K11="Concluída",H11>G11),"Sim","Não"))) | P11: Definir prioridades para amanhã.
M12: =IF(A12="","",IFERROR(VLOOKUP(L12,'Listas'!$A$2:$B$4,2,FALSE),0)) | N12: =IF(A12="","",IF(K12="Concluída",1,0)) | O12: =IF(A12="","",IF(K12="Pendente","Pendente",IF(AND(K12="Concluída",H12>G12),"Sim","Não")))
M13: =IF(A13="","",IFERROR(VLOOKUP(L13,'Listas'!$A$2:$B$4,2,FALSE),0)) | N13: =IF(A13="","",IF(K13="Concluída",1,0)) | O13: =IF(A13="","",IF(K13="Pendente","Pendente",IF(AND(K13="Concluída",H13>G13),"Sim","Não")))
M14: =IF(A14="","",IFERROR(VLOOKUP(L14,'Listas'!$A$2:$B$4,2,FALSE),0)) | N14: =IF(A14="","",IF(K14="Concluída",1,0)) | O14: =IF(A14="","",IF(K14="Pendente","Pendente",IF(AND(K14="Concluída",H14>G14),"Sim","Não")))
M15: =IF(A15="","",IFERROR(VLOOKUP(L15,'Listas'!$A$2:$B$4,2,FALSE),0)) | N15: =IF(A15="","",IF(K15="Concluída",1,0)) | O15: =IF(A15="","",IF(K15="Pendente","Pendente",IF(AND(K15="Concluída",H15>G15),"Sim","Não")))
M16: =IF(A16="","",IFERROR(VLOOKUP(L16,'Listas'!$A$2:$B$4,2,FALSE),0)) | N16: =IF(A16="","",IF(K16="Concluída",1,0)) | O16: =IF(A16="","",IF(K16="Pendente","Pendente",IF(AND(K16="Concluída",H16>G16),"Sim","Não")))
M17: =IF(A17="","",IFERROR(VLOOKUP(L17,'Listas'!$A$2:$B$4,2,FALSE),0)) | N17: =IF(A17="","",IF(K17="Concluída",1,0)) | O17: =IF(A17="","",IF(K17="Pendente","Pendente",IF(AND(K17="Concluída",H17>G17),"Sim","Não")))
M18: =IF(A18="","",IFERROR(VLOOKUP(L18,'Listas'!$A$2:$B$4,2,FALSE),0)) | N18: =IF(A18="","",IF(K18="Concluída",1,0)) | O18: =IF(A18="","",IF(K18="Pendente","Pendente",IF(AND(K18="Concluída",H18>G18),"Sim","Não")))
M19: =IF(A19="","",IFERROR(VLOOKUP(L19,'Listas'!$A$2:$B$4,2,FALSE),0)) | N19: =IF(A19="","",IF(K19="Concluída",1,0)) | O19: =IF(A19="","",IF(K19="Pendente","Pendente",IF(AND(K19="Concluída",H19>G19),"Sim","Não")))
M20: =IF(A20="","",IFERROR(VLOOKUP(L20,'Listas'!$A$2:$B$4,2,FALSE),0)) | N20: =IF(A20="","",IF(K20="Concluída",1,0)) | O20: =IF(A20="","",IF(K20="Pendente","Pendente",IF(AND(K20="Concluída",H20>G20),"Sim","Não")))
M21: =IF(A21="","",IFERROR(VLOOKUP(L21,'Listas'!$A$2:$B$4,2,FALSE),0)) | N21: =IF(A21="","",IF(K21="Concluída",1,0)) | O21: =IF(A21="","",IF(K21="Pendente","Pendente",IF(AND(K21="Concluída",H21>G21),"Sim","Não")))
M22: =IF(A22="","",IFERROR(VLOOKUP(L22,'Listas'!$A$2:$B$4,2,FALSE),0)) | N22: =IF(A22="","",IF(K22="Concluída",1,0)) | O22: =IF(A22="","",IF(K22="Pendente","Pendente",IF(AND(K22="Concluída",H22>G22),"Sim","Não")))
M23: =IF(A23="","",IFERROR(VLOOKUP(L23,'Listas'!$A$2:$B$4,2,FALSE),0)) | N23: =IF(A23="","",IF(K23="Concluída",1,0)) | O23: =IF(A23="","",IF(K23="Pendente","Pendente",IF(AND(K23="Concluída",H23>G23),"Sim","Não")))
... M1000: =IF(A1000="","",IFERROR(VLOOKUP(L1000,'Listas'!$A$2:$B$4,2,FALSE),0)) | N1000: =IF(A1000="","",IF(K1000="Concluída",1,0)) | O1000: =IF(A1000="","",IF(K1000="Pendente","Pendente",IF(AND(K1000="Concluída",H1000>G1000),"Sim","Não")))

Sheet Resumo
A1: Resumo da Rotina Diária
A4: Indicadores principais
A5: Total de atividades | B5: =COUNTA('Rotina Diária'!A2:A1000) | D5: Atividades concluídas | E5: =COUNTIF('Rotina Diária'!K2:K1000,"Concluída") | G5: Atividades pendentes | H5: =COUNTIF('Rotina Diária'!K2:K1000,"Pendente")
A6: Percentual de conclusão | B6: =IFERROR(COUNTIF('Rotina Diária'!K2:K1000,"Concluída")/COUNTA('Rotina Diária'!A2:A1000),0) | D6: Duração média planejada (min) | E6: =IFERROR(AVERAGE('Rotina Diária'!I2:I1000),0) | G6: Total de minutos realizados | H6: =SUM('Rotina Diária'!J2:J1000)
A7: Atividades atrasadas | B7: =COUNTIF('Rotina Diária'!O2:O1000,"Sim")
A9: Mensagem de desempenho | B9: =IF(B6>=0.8,"Excelente consistência!",IF(B6>=0.5,"Bom progresso — mantenha o ritmo.","Atenção: reorganize suas prioridades.")) | G9: Situação geral
A10: Consulta por filtro | G10: Status | H10: Quantidade
A11: Filtro de data (opcional) | G11: Concluída | H11: =COUNTIF('Rotina Diária'!K2:K1000,"Concluída")
A12: Filtro de pessoa (opcional) | B12: Todas | G12: Pendente | H12: =COUNTIF('Rotina Diária'!K2:K1000,"Pendente")
A13: Atividades na seleção | B13: =IF(AND(B11="",B12="Todas"),B5,IF(B11="",COUNTIF('Rotina Diária'!$C$2:$C$1000,B12),IF(B12="Todas",COUNTIF('Rotina Diária'!$B$2:$B$1000,B11),COUNTIFS('Rotina Diária'!$B$2:$B$1000,B11,'Rotina Diária'!$C$2:$C$1000,B12)))) | G13: Cancelada | H13: =COUNTIF('Rotina Diária'!K2:K1000,"Cancelada")
A15: Desempenho por categoria
A16: Categoria | B16: Quantidade de atividades | C16: Quantidade concluída | D16: Percentual concluído | E16: Média planejada (min)
A17: Saúde | B17: =COUNTIF('Rotina Diária'!$E$2:$E$1000,A17) | C17: =COUNTIFS('Rotina Diária'!$E$2:$E$1000,A17,'Rotina Diária'!$K$2:$K$1000,"Concluída") | D17: =IFERROR(C17/B17,0) | E17: =IFERROR(AVERAGEIF('Rotina Diária'!$E$2:$E$1000,A17,'Rotina Diária'!$I$2:$I$1000),0)
A18: Trabalho/Estudo | B18: =COUNTIF('Rotina Diária'!$E$2:$E$1000,A18) | C18: =COUNTIFS('Rotina Diária'!$E$2:$E$1000,A18,'Rotina Diária'!$K$2:$K$1000,"Concluída") | D18: =IFERROR(C18/B18,0) | E18: =IFERROR(AVERAGEIF('Rotina Diária'!$E$2:$E$1000,A18,'Rotina Diária'!$I$2:$I$1000),0)
A19: Casa | B19: =COUNTIF('Rotina Diária'!$E$2:$E$1000,A19) | C19: =COUNTIFS('Rotina Diária'!$E$2:$E$1000,A19,'Rotina Diária'!$K$2:$K$1000,"Concluída") | D19: =IFERROR(C19/B19,0) | E19: =IFERROR(AVERAGEIF('Rotina Diária'!$E$2:$E$1000,A19,'Rotina Diária'!$I$2:$I$1000),0)
A20: Exercícios | B20: =COUNTIF('Rotina Diária'!$E$2:$E$1000,A20) | C20: =COUNTIFS('Rotina Diária'!$E$2:$E$1000,A20,'Rotina Diária'!$K$2:$K$1000,"Concluída") | D20: =IFERROR(C20/B20,0) | E20: =IFERROR(AVERAGEIF('Rotina Diária'!$E$2:$E$1000,A20,'Rotina Diária'!$I$2:$I$1000),0)
A21: Finanças | B21: =COUNTIF('Rotina Diária'!$E$2:$E$1000,A21) | C21: =COUNTIFS('Rotina Diária'!$E$2:$E$1000,A21,'Rotina Diária'!$K$2:$K$1000,"Concluída") | D21: =IFERROR(C21/B21,0) | E21: =IFERROR(AVERAGEIF('Rotina Diária'!$E$2:$E$1000,A21,'Rotina Diária'!$I$2:$I$1000),0)
A22: Lazer | B22: =COUNTIF('Rotina Diária'!$E$2:$E$1000,A22) | C22: =COUNTIFS('Rotina Diária'!$E$2:$E$1000,A22,'Rotina Diária'!$K$2:$K$1000,"Concluída") | D22: =IFERROR(C22/B22,0) | E22: =IFERROR(AVERAGEIF('Rotina Diária'!$E$2:$E$1000,A22,'Rotina Diária'!$I$2:$I$1000),0)
A23: Família | B23: =COUNTIF('Rotina Diária'!$E$2:$E$1000,A23) | C23: =COUNTIFS('Rotina Diária'!$E$2:$E$1000,A23,'Rotina Diária'!$K$2:$K$1000,"Concluída") | D23: =IFERROR(C23/B23,0) | E23: =IFERROR(AVERAGEIF('Rotina Diária'!$E$2:$E$1000,A23,'Rotina Diária'!$I$2:$I$1000),0)

Sheet Listas
A1: Prioridade | B1: Peso | D1: Categoria | E1: Status | G1: Pessoa | H1: Cidade
A2: Alta | B2: 3 | D2: Saúde | E2: Concluída | G2: João Silva | H2: São Paulo
A3: Média | B3: 2 | D3: Trabalho/Estudo | E3: Pendente | G3: Maria Oliveira | H3: Rio de Janeiro
A4: Baixa | B4: 1 | D4: Casa | E4: Cancelada | G4: Pedro Santos | H4: Belo Horizonte
D5: Exercícios | E5: Em andamento | G5: Ana Souza | H5: Curitiba
D6: Finanças | G6: Carlos Pereira | H6: Porto Alegre
D7: Lazer | G7: Juliana Costa | H7: Salvador
D8: Família | G8: Rafael Almeida | H8: Recife
G9: Camila Ferreira | H9: Fortaleza
G10: Lucas Rodrigues | H10: Brasília
G11: Fernanda Lima | H11: Campinas

Sheet Instruções
A1: Orientações de Uso — Rotina Diária
A3: Como preencher e acompanhar
A4: 1 | B4: Preencha as células amarelas na planilha Rotina Diária.
A5: 2 | B5: Use datas no formato DD/MM/AAAA. A amostra utiliza datas de setembro de 2026.
A6: 3 | B6: Selecione pessoa, cidade, categoria, status e prioridade pelas listas disponíveis.
A7: 4 | B7: Informe o horário planejado e o horário realizado para acompanhar atrasos.
A8: 5 | B8: Consulte o dashboard na planilha Resumo para acompanhar consistência, conclusão e atrasos.
A9: 6 | B9: Não altere as colunas calculadas: Peso da prioridade, Concluída? e Atrasou?.
A10: 7 | B10: Use a planilha Listas como referência para prioridades, pesos e opções de preenchimento.
A13: Legenda visual
A14: Amarelo claro | B14: Campos para preenchimento manual
A15: Verde | B15: Atividade concluída
A16: Vermelho | B16: Atividade pendente ou atrasada
