Workbook

Sheet Diário de Bordo
A1: Diário de Bordo | Controle de deslocamentos, custos e produtividade
A2: Preencha somente as células amarelas. Os campos brancos são calculados automaticamente.
A4: ID | B4: Data | C4: Motorista/Responsável | D4: Veículo | E4: Placa | F4: Cidade de origem | G4: Cidade de destino | H4: Finalidade | I4: Hodômetro inicial (km) | J4: Hodômetro final (km) | K4: Distância (km) | L4: Litros abastecidos | M4: Preço por litro (R$) | N4: Custo combustível (R$) | O4: Pedágios (R$) | P4: Estacionamento (R$) | Q4: Outros custos (R$) | R4: Custo total (R$) | S4: Passageiros | T4: Status | U4: Observações | V4: Validação de quilometragem
A5: =IF(B5="","",COUNT($B$5:B5)) | B5: 46034 | C5: João Silva | D5: Fiat Strada | E5: BRA1A01 | F5: São Paulo | G5: Campinas | H5: Visita a cliente | I5: 102350 | J5: 102442 | K5: =IF(A5="","",IFERROR(J5-I5,0)) | L5: 11.5 | M5: 6.19 | N5: =IF(A5="","",IFERROR(L5*M5,0)) | O5: 15.6 | P5: 18 | Q5: 0 | R5: =IF(A5="","",SUM(N5:Q5)) | S5: 1 | T5: Concluído | U5: Visita comercial e retorno no mesmo dia. | V5: =IF(A5="","",IF(J5<I5,"Verificar hodômetro",IF(T5="Cancelado","Viagem cancelada","OK")))
A6: =IF(B6="","",COUNT($B$5:B6)) | B6: 46041 | C6: Maria Oliveira | D6: Chevrolet Onix | E6: RIO2B14 | F6: Rio de Janeiro | G6: Niterói | H6: Reunião | I6: 45218 | J6: 45246 | K6: =IF(A6="","",IFERROR(J6-I6,0)) | L6: 4.2 | M6: 6.45 | N6: =IF(A6="","",IFERROR(L6*M6,0)) | O6: 0 | P6: 22 | Q6: 0 | R6: =IF(A6="","",SUM(N6:Q6)) | S6: 2 | T6: Concluído | U6: Reunião de alinhamento com equipe regional. | V6: =IF(A6="","",IF(J6<I6,"Verificar hodômetro",IF(T6="Cancelado","Viagem cancelada","OK")))
A7: =IF(B7="","",COUNT($B$5:B7)) | B7: 46056 | C7: Pedro Santos | D7: Renault Kwid | E7: BHZ3C25 | F7: Belo Horizonte | G7: Contagem | H7: Entrega | I7: 88760 | J7: 88802 | K7: =IF(A7="","",IFERROR(J7-I7,0)) | L7: 5.8 | M7: 6.12 | N7: =IF(A7="","",IFERROR(L7*M7,0)) | O7: 0 | P7: 8 | Q7: 6.5 | R7: =IF(A7="","",SUM(N7:Q7)) | S7: 1 | T7: Concluído | U7: Entrega de materiais para cliente. | V7: =IF(A7="","",IF(J7<I7,"Verificar hodômetro",IF(T7="Cancelado","Viagem cancelada","OK")))
A8: =IF(B8="","",COUNT($B$5:B8)) | B8: 46064 | C8: Ana Souza | D8: Volkswagen T-Cross | E8: CUR4D36 | F8: Curitiba | G8: São José dos Pinhais | H8: Serviço externo | I8: 31650 | J8: 31682 | K8: =IF(A8="","",IFERROR(J8-I8,0)) | L8: 4.6 | M8: 6.29 | N8: =IF(A8="","",IFERROR(L8*M8,0)) | O8: 0 | P8: 12 | Q8: 0 | R8: =IF(A8="","",SUM(N8:Q8)) | S8: 1 | T8: Concluído | U8: Atendimento técnico programado. | V8: =IF(A8="","",IF(J8<I8,"Verificar hodômetro",IF(T8="Cancelado","Viagem cancelada","OK")))
A9: =IF(B9="","",COUNT($B$5:B9)) | B9: 46073 | C9: Carlos Pereira | D9: Fiat Strada | E9: POA5E47 | F9: Porto Alegre | G9: Canoas | H9: Visita a cliente | I9: 142900 | J9: 142928 | K9: =IF(A9="","",IFERROR(J9-I9,0)) | L9: 4.1 | M9: 6.35 | N9: =IF(A9="","",IFERROR(L9*M9,0)) | O9: 0 | P9: 10 | Q9: 0 | R9: =IF(A9="","",SUM(N9:Q9)) | S9: 1 | T9: Concluído | U9: Visita de acompanhamento pós-venda. | V9: =IF(A9="","",IF(J9<I9,"Verificar hodômetro",IF(T9="Cancelado","Viagem cancelada","OK")))
A10: =IF(B10="","",COUNT($B$5:B10)) | B10: 46086 | C10: Juliana Costa | D10: Chevrolet Onix | E10: SSA6F58 | F10: Salvador | G10: Feira de Santana | H10: Entrega | I10: 70410 | J10: 70516 | K10: =IF(A10="","",IFERROR(J10-I10,0)) | L10: 13.4 | M10: 6.18 | N10: =IF(A10="","",IFERROR(L10*M10,0)) | O10: 12.4 | P10: 15 | Q10: 9 | R10: =IF(A10="","",SUM(N10:Q10)) | S10: 1 | T10: Concluído | U10: Entrega de documentos e equipamentos. | V10: =IF(A10="","",IF(J10<I10,"Verificar hodômetro",IF(T10="Cancelado","Viagem cancelada","OK")))
A11: =IF(B11="","",COUNT($B$5:B11)) | B11: 46094 | C11: Rafael Almeida | D11: Renault Kwid | E11: REC7G69 | F11: Recife | G11: Olinda | H11: Reunião | I11: 56980 | J11: 57004 | K11: =IF(A11="","",IFERROR(J11-I11,0)) | L11: 3.6 | M11: 6.08 | N11: =IF(A11="","",IFERROR(L11*M11,0)) | O11: 0 | P11: 14 | Q11: 0 | R11: =IF(A11="","",SUM(N11:Q11)) | S11: 3 | T11: Concluído | U11: Reunião presencial de planejamento. | V11: =IF(A11="","",IF(J11<I11,"Verificar hodômetro",IF(T11="Cancelado","Viagem cancelada","OK")))
A12: =IF(B12="","",COUNT($B$5:B12)) | B12: 46102 | C12: Camila Ferreira | D12: Volkswagen T-Cross | E12: FOR8H70 | F12: Fortaleza | G12: Aquiraz | H12: Uso pessoal | I12: 22650 | J12: 22686 | K12: =IF(A12="","",IFERROR(J12-I12,0)) | L12: 5.2 | M12: 6.24 | N12: =IF(A12="","",IFERROR(L12*M12,0)) | O12: 0 | P12: 18 | Q12: 0 | R12: =IF(A12="","",SUM(N12:Q12)) | S12: 2 | T12: Planejado | U12: Deslocamento particular previsto. | V12: =IF(A12="","",IF(J12<I12,"Verificar hodômetro",IF(T12="Cancelado","Viagem cancelada","OK")))
A13: =IF(B13="","",COUNT($B$5:B13)) | B13: 46120 | C13: Lucas Rodrigues | D13: Fiat Strada | E13: BSB9J81 | F13: Brasília | G13: Goiânia | H13: Visita a cliente | I13: 119420 | J13: 119630 | K13: =IF(A13="","",IFERROR(J13-I13,0)) | L13: 25.8 | M13: 6.39 | N13: =IF(A13="","",IFERROR(L13*M13,0)) | O13: 28.5 | P13: 20 | Q13: 12 | R13: =IF(A13="","",SUM(N13:Q13)) | S13: 1 | T13: Concluído | U13: Visita comercial com apresentação de proposta. | V13: =IF(A13="","",IF(J13<I13,"Verificar hodômetro",IF(T13="Cancelado","Viagem cancelada","OK")))
A14: =IF(B14="","",COUNT($B$5:B14)) | B14: 46129 | C14: Fernanda Lima | D14: Chevrolet Onix | E14: CPN0K92 | F14: Campinas | G14: Jundiaí | H14: Serviço externo | K14: =IF(A14="","",IFERROR(J14-I14,0)) | N14: =IF(A14="","",IFERROR(L14*M14,0)) | R14: =IF(A14="","",SUM(N14:Q14)) | S14: 1 | T14: Cancelado | U14: Agenda cancelada antes da saída. | V14: =IF(A14="","",IF(J14<I14,"Verificar hodômetro",IF(T14="Cancelado","Viagem cancelada","OK")))
A15: =IF(B15="","",COUNT($B$5:B15)) | K15: =IF(A15="","",IFERROR(J15-I15,0)) | N15: =IF(A15="","",IFERROR(L15*M15,0)) | R15: =IF(A15="","",SUM(N15:Q15)) | V15: =IF(A15="","",IF(J15<I15,"Verificar hodômetro",IF(T15="Cancelado","Viagem cancelada","OK")))
A16: =IF(B16="","",COUNT($B$5:B16)) | K16: =IF(A16="","",IFERROR(J16-I16,0)) | N16: =IF(A16="","",IFERROR(L16*M16,0)) | R16: =IF(A16="","",SUM(N16:Q16)) | V16: =IF(A16="","",IF(J16<I16,"Verificar hodômetro",IF(T16="Cancelado","Viagem cancelada","OK")))
A17: =IF(B17="","",COUNT($B$5:B17)) | K17: =IF(A17="","",IFERROR(J17-I17,0)) | N17: =IF(A17="","",IFERROR(L17*M17,0)) | R17: =IF(A17="","",SUM(N17:Q17)) | V17: =IF(A17="","",IF(J17<I17,"Verificar hodômetro",IF(T17="Cancelado","Viagem cancelada","OK")))
A18: =IF(B18="","",COUNT($B$5:B18)) | K18: =IF(A18="","",IFERROR(J18-I18,0)) | N18: =IF(A18="","",IFERROR(L18*M18,0)) | R18: =IF(A18="","",SUM(N18:Q18)) | V18: =IF(A18="","",IF(J18<I18,"Verificar hodômetro",IF(T18="Cancelado","Viagem cancelada","OK")))
A19: =IF(B19="","",COUNT($B$5:B19)) | K19: =IF(A19="","",IFERROR(J19-I19,0)) | N19: =IF(A19="","",IFERROR(L19*M19,0)) | R19: =IF(A19="","",SUM(N19:Q19)) | V19: =IF(A19="","",IF(J19<I19,"Verificar hodômetro",IF(T19="Cancelado","Viagem cancelada","OK")))
A20: =IF(B20="","",COUNT($B$5:B20)) | K20: =IF(A20="","",IFERROR(J20-I20,0)) | N20: =IF(A20="","",IFERROR(L20*M20,0)) | R20: =IF(A20="","",SUM(N20:Q20)) | V20: =IF(A20="","",IF(J20<I20,"Verificar hodômetro",IF(T20="Cancelado","Viagem cancelada","OK")))
A21: =IF(B21="","",COUNT($B$5:B21)) | K21: =IF(A21="","",IFERROR(J21-I21,0)) | N21: =IF(A21="","",IFERROR(L21*M21,0)) | R21: =IF(A21="","",SUM(N21:Q21)) | V21: =IF(A21="","",IF(J21<I21,"Verificar hodômetro",IF(T21="Cancelado","Viagem cancelada","OK")))
A22: =IF(B22="","",COUNT($B$5:B22)) | K22: =IF(A22="","",IFERROR(J22-I22,0)) | N22: =IF(A22="","",IFERROR(L22*M22,0)) | R22: =IF(A22="","",SUM(N22:Q22)) | V22: =IF(A22="","",IF(J22<I22,"Verificar hodômetro",IF(T22="Cancelado","Viagem cancelada","OK")))
A23: =IF(B23="","",COUNT($B$5:B23)) | K23: =IF(A23="","",IFERROR(J23-I23,0)) | N23: =IF(A23="","",IFERROR(L23*M23,0)) | R23: =IF(A23="","",SUM(N23:Q23)) | V23: =IF(A23="","",IF(J23<I23,"Verificar hodômetro",IF(T23="Cancelado","Viagem cancelada","OK")))
A24: =IF(B24="","",COUNT($B$5:B24)) | K24: =IF(A24="","",IFERROR(J24-I24,0)) | N24: =IF(A24="","",IFERROR(L24*M24,0)) | R24: =IF(A24="","",SUM(N24:Q24)) | V24: =IF(A24="","",IF(J24<I24,"Verificar hodômetro",IF(T24="Cancelado","Viagem cancelada","OK")))
A25: =IF(B25="","",COUNT($B$5:B25)) | K25: =IF(A25="","",IFERROR(J25-I25,0)) | N25: =IF(A25="","",IFERROR(L25*M25,0)) | R25: =IF(A25="","",SUM(N25:Q25)) | V25: =IF(A25="","",IF(J25<I25,"Verificar hodômetro",IF(T25="Cancelado","Viagem cancelada","OK")))
A26: =IF(B26="","",COUNT($B$5:B26)) | K26: =IF(A26="","",IFERROR(J26-I26,0)) | N26: =IF(A26="","",IFERROR(L26*M26,0)) | R26: =IF(A26="","",SUM(N26:Q26)) | V26: =IF(A26="","",IF(J26<I26,"Verificar hodômetro",IF(T26="Cancelado","Viagem cancelada","OK")))
... A104: =IF(B104="","",COUNT($B$5:B104)) | K104: =IF(A104="","",IFERROR(J104-I104,0)) | N104: =IF(A104="","",IFERROR(L104*M104,0)) | R104: =IF(A104="","",SUM(N104:Q104)) | V104: =IF(A104="","",IF(J104<I104,"Verificar hodômetro",IF(T104="Cancelado","Viagem cancelada","OK")))

Sheet Resumo
A1: Resumo | Visão geral do diário de bordo
A3: Total de viagens | B3: =COUNTIF('Diário de Bordo'!$T$5:$T$104,"Concluído") | D3: Quilometragem total | E3: =SUM('Diário de Bordo'!$K$5:$K$104) | G3: Custo total | H3: =SUM('Diário de Bordo'!$R$5:$R$104)
A5: Custo médio por viagem | B5: =IFERROR(AVERAGE('Diário de Bordo'!$R$5:$R$104),0) | D5: Média de km por viagem | E5: =IFERROR(AVERAGE('Diário de Bordo'!$K$5:$K$104),0) | G5: Percentual concluído | H5: =IFERROR(COUNTIF('Diário de Bordo'!$T$5:$T$104,"Concluído")/COUNTA('Diário de Bordo'!$A$5:$A$104),0)
A10: Consulta de veículo
A12: Placa para consulta
A13: Motorista associado | B13: =IF(B12="","",IFERROR(VLOOKUP(B12,$A$20:$B$119,2,FALSE),"Não encontrado"))
A14: Total de km da placa | B14: =IF(B12="","",SUMIF('Diário de Bordo'!$E$5:$E$104,B12,'Diário de Bordo'!$K$5:$K$104))
A17: Tabela auxiliar de consulta | D17: Custos por finalidade | G17: Viagens por status
D18: Finalidade | E18: Custo total (R$) | G18: Status | H18: Quantidade
A19: Placa | B19: Motorista associado | D19: Visita a cliente | E19: =SUMIF('Diário de Bordo'!$H$5:$H$104,D19,'Diário de Bordo'!$R$5:$R$104) | G19: Concluído | H19: =COUNTIF('Diário de Bordo'!$T$5:$T$104,G19)
A20: =IF('Diário de Bordo'!$E$5="","",'Diário de Bordo'!$E$5) | B20: =IF('Diário de Bordo'!$C$5="","",'Diário de Bordo'!$C$5) | D20: Entrega | E20: =SUMIF('Diário de Bordo'!$H$5:$H$104,D20,'Diário de Bordo'!$R$5:$R$104) | G20: Planejado | H20: =COUNTIF('Diário de Bordo'!$T$5:$T$104,G20)
A21: =IF('Diário de Bordo'!$E$6="","",'Diário de Bordo'!$E$6) | B21: =IF('Diário de Bordo'!$C$6="","",'Diário de Bordo'!$C$6) | D21: Reunião | E21: =SUMIF('Diário de Bordo'!$H$5:$H$104,D21,'Diário de Bordo'!$R$5:$R$104) | G21: Cancelado | H21: =COUNTIF('Diário de Bordo'!$T$5:$T$104,G21)
A22: =IF('Diário de Bordo'!$E$7="","",'Diário de Bordo'!$E$7) | B22: =IF('Diário de Bordo'!$C$7="","",'Diário de Bordo'!$C$7) | D22: Serviço externo | E22: =SUMIF('Diário de Bordo'!$H$5:$H$104,D22,'Diário de Bordo'!$R$5:$R$104)
A23: =IF('Diário de Bordo'!$E$8="","",'Diário de Bordo'!$E$8) | B23: =IF('Diário de Bordo'!$C$8="","",'Diário de Bordo'!$C$8) | D23: Uso pessoal | E23: =SUMIF('Diário de Bordo'!$H$5:$H$104,D23,'Diário de Bordo'!$R$5:$R$104)
A24: =IF('Diário de Bordo'!$E$9="","",'Diário de Bordo'!$E$9) | B24: =IF('Diário de Bordo'!$C$9="","",'Diário de Bordo'!$C$9)
A25: =IF('Diário de Bordo'!$E$10="","",'Diário de Bordo'!$E$10) | B25: =IF('Diário de Bordo'!$C$10="","",'Diário de Bordo'!$C$10)
A26: =IF('Diário de Bordo'!$E$11="","",'Diário de Bordo'!$E$11) | B26: =IF('Diário de Bordo'!$C$11="","",'Diário de Bordo'!$C$11)
A27: =IF('Diário de Bordo'!$E$12="","",'Diário de Bordo'!$E$12) | B27: =IF('Diário de Bordo'!$C$12="","",'Diário de Bordo'!$C$12)
A28: =IF('Diário de Bordo'!$E$13="","",'Diário de Bordo'!$E$13) | B28: =IF('Diário de Bordo'!$C$13="","",'Diário de Bordo'!$C$13)
A29: =IF('Diário de Bordo'!$E$14="","",'Diário de Bordo'!$E$14) | B29: =IF('Diário de Bordo'!$C$14="","",'Diário de Bordo'!$C$14)
A30: =IF('Diário de Bordo'!$E$15="","",'Diário de Bordo'!$E$15) | B30: =IF('Diário de Bordo'!$C$15="","",'Diário de Bordo'!$C$15)
A31: =IF('Diário de Bordo'!$E$16="","",'Diário de Bordo'!$E$16) | B31: =IF('Diário de Bordo'!$C$16="","",'Diário de Bordo'!$C$16)
A32: =IF('Diário de Bordo'!$E$17="","",'Diário de Bordo'!$E$17) | B32: =IF('Diário de Bordo'!$C$17="","",'Diário de Bordo'!$C$17)
A33: =IF('Diário de Bordo'!$E$18="","",'Diário de Bordo'!$E$18) | B33: =IF('Diário de Bordo'!$C$18="","",'Diário de Bordo'!$C$18)
A34: =IF('Diário de Bordo'!$E$19="","",'Diário de Bordo'!$E$19) | B34: =IF('Diário de Bordo'!$C$19="","",'Diário de Bordo'!$C$19)
A35: =IF('Diário de Bordo'!$E$20="","",'Diário de Bordo'!$E$20) | B35: =IF('Diário de Bordo'!$C$20="","",'Diário de Bordo'!$C$20)
A36: =IF('Diário de Bordo'!$E$21="","",'Diário de Bordo'!$E$21) | B36: =IF('Diário de Bordo'!$C$21="","",'Diário de Bordo'!$C$21)
A37: =IF('Diário de Bordo'!$E$22="","",'Diário de Bordo'!$E$22) | B37: =IF('Diário de Bordo'!$C$22="","",'Diário de Bordo'!$C$22)
A38: =IF('Diário de Bordo'!$E$23="","",'Diário de Bordo'!$E$23) | B38: =IF('Diário de Bordo'!$C$23="","",'Diário de Bordo'!$C$23)
A39: =IF('Diário de Bordo'!$E$24="","",'Diário de Bordo'!$E$24) | B39: =IF('Diário de Bordo'!$C$24="","",'Diário de Bordo'!$C$24)
A40: =IF('Diário de Bordo'!$E$25="","",'Diário de Bordo'!$E$25) | B40: =IF('Diário de Bordo'!$C$25="","",'Diário de Bordo'!$C$25)
A41: =IF('Diário de Bordo'!$E$26="","",'Diário de Bordo'!$E$26) | B41: =IF('Diário de Bordo'!$C$26="","",'Diário de Bordo'!$C$26)
A42: =IF('Diário de Bordo'!$E$27="","",'Diário de Bordo'!$E$27) | B42: =IF('Diário de Bordo'!$C$27="","",'Diário de Bordo'!$C$27)
A43: =IF('Diário de Bordo'!$E$28="","",'Diário de Bordo'!$E$28) | B43: =IF('Diário de Bordo'!$C$28="","",'Diário de Bordo'!$C$28)
A44: =IF('Diário de Bordo'!$E$29="","",'Diário de Bordo'!$E$29) | B44: =IF('Diário de Bordo'!$C$29="","",'Diário de Bordo'!$C$29)
A45: =IF('Diário de Bordo'!$E$30="","",'Diário de Bordo'!$E$30) | B45: =IF('Diário de Bordo'!$C$30="","",'Diário de Bordo'!$C$30)
A46: =IF('Diário de Bordo'!$E$31="","",'Diário de Bordo'!$E$31) | B46: =IF('Diário de Bordo'!$C$31="","",'Diário de Bordo'!$C$31)
A47: =IF('Diário de Bordo'!$E$32="","",'Diário de Bordo'!$E$32) | B47: =IF('Diário de Bordo'!$C$32="","",'Diário de Bordo'!$C$32)
A48: =IF('Diário de Bordo'!$E$33="","",'Diário de Bordo'!$E$33) | B48: =IF('Diário de Bordo'!$C$33="","",'Diário de Bordo'!$C$33)
A49: =IF('Diário de Bordo'!$E$34="","",'Diário de Bordo'!$E$34) | B49: =IF('Diário de Bordo'!$C$34="","",'Diário de Bordo'!$C$34)
...

Sheet Instruções
A1: Instruções | Uso organizado do Diário de Bordo
A3: Orientação | B3: Como aplicar no dia a dia
A4: Preenchimento | B4: Preencha somente as células amarelas da aba Diário de Bordo. As células brancas possuem fórmulas e devem ser mantidas.
A5: Hodômetro | B5: Informe o hodômetro final sempre maior ou igual ao inicial. Se houver divergência, a coluna de validação exibirá um alerta.
A6: Custos | B6: Informe combustível, pedágios, estacionamento e outros custos em reais, sem digitar R$ manualmente.
A7: Datas | B7: Use datas no padrão brasileiro DD/MM/AAAA. Registre uma linha para cada deslocamento realizado, planejado ou cancelado.
A8: Status | B8: Use Concluído para viagens realizadas, Planejado para deslocamentos previstos e Cancelado quando a viagem não ocorrer.
A9: Finalidade | B9: Classifique a viagem por finalidade para acompanhar custos de visitas, entregas, reuniões, serviços externos e uso pessoal.
A10: Indicadores | B10: A aba Resumo apresenta total de viagens concluídas, quilometragem, custo total, médias e percentual de conclusão.
A11: Consulta de veículo | B11: Digite ou selecione uma placa na área de consulta da aba Resumo para visualizar o motorista associado e o total de quilômetros.
A12: Gráficos | B12: Os gráficos consideram todas as 100 linhas preparadas e são atualizados automaticamente após inserir novos registros.
A13: Organização | B13: Mantenha observações objetivas para facilitar conferências, reembolsos e acompanhamento da produtividade.
A16: Legenda de status
A17: Concluído | B17: Deslocamento finalizado e considerado nos indicadores.
A18: Planejado | B18: Deslocamento previsto; revise os dados após a realização.
A19: Cancelado | B19: Deslocamento não realizado; mantenha o registro para histórico.
