Workbook

Sheet Veículos
A1: Controle de Veículos
A2: Preencha os campos em amarelo. As colunas de custo, status e situação documental são calculadas automaticamente.
A3: ID | B3: Placa | C3: Marca/Modelo | D3: Ano | E3: Tipo de combustível | F3: Proprietário/Responsável | G3: Cidade | H3: Data de aquisição | I3: Quilometragem atual | J3: Próxima revisão (km) | K3: IPVA (R$) | L3: Seguro anual (R$) | M3: Licenciamento (R$) | N3: Gasto com combustível (R$) | O3: Gasto com manutenção (R$) | P3: Custo anual total (R$) | Q3: Custo por km (R$) | R3: Status da revisão | S3: Vencimento do seguro | T3: Situação documental
A4: V001 | B4: FTR-2A26 | C4: Toyota Corolla | D4: 2026 | E4: Gasolina | F4: João Silva | G4: São Paulo | H4: 46034 | I4: 48500 | J4: 48000 | K4: 4200 | L4: 2500 | M4: 175 | N4: 11200 | O4: 1850 | P4: 46288 | Q4: =IF(A4="","",IFERROR(P4/I4,0)) | R4: =IF(A4="","",IF(OR(I4="",J4=""),"Verificar dados",IF(I4>=J4,"Revisão vencida","Em dia"))) | T4: =IF(A4="","",IF(S4="","Verificar vencimento",IF(S4<TODAY(),"Vencido","Regular")))
A5: V002 | B5: GKM-4B26 | C5: Chevrolet Onix | D5: 2026 | E5: Flex | F5: Maria Oliveira | G5: Rio de Janeiro | H5: 46061 | I5: 27300 | J5: 30000 | K5: 1900 | L5: 1900 | M5: 175 | N5: 6300 | O5: 900 | P5: 46268 | Q5: =IF(A5="","",IFERROR(P5/I5,0)) | R5: =IF(A5="","",IF(OR(I5="",J5=""),"Verificar dados",IF(I5>=J5,"Revisão vencida","Em dia"))) | T5: =IF(A5="","",IF(S5="","Verificar vencimento",IF(S5<TODAY(),"Vencido","Regular")))
A6: V003 | B6: HPL-7C26 | C6: Honda CG 160 | D6: 2026 | E6: Gasolina | F6: Pedro Santos | G6: Belo Horizonte | H6: 46100 | I6: 18200 | J6: 18000 | K6: 900 | L6: 980 | M6: 175 | N6: 3700 | O6: 600 | P6: 46293 | Q6: =IF(A6="","",IFERROR(P6/I6,0)) | R6: =IF(A6="","",IF(OR(I6="",J6=""),"Verificar dados",IF(I6>=J6,"Revisão vencida","Em dia"))) | T6: =IF(A6="","",IF(S6="","Verificar vencimento",IF(S6<TODAY(),"Vencido","Regular")))
A7: V004 | B7: JQA-1D26 | C7: Volkswagen T-Cross | D7: 2026 | E7: Flex | F7: Ana Souza | G7: Curitiba | H7: 46119 | I7: 35800 | J7: 40000 | K7: 3500 | L7: 2600 | M7: 175 | N7: 8100 | O7: 1250 | P7: 46283 | Q7: =IF(A7="","",IFERROR(P7/I7,0)) | R7: =IF(A7="","",IF(OR(I7="",J7=""),"Verificar dados",IF(I7>=J7,"Revisão vencida","Em dia"))) | T7: =IF(A7="","",IF(S7="","Verificar vencimento",IF(S7<TODAY(),"Vencido","Regular")))
A8: V005 | B8: KRS-8E26 | C8: Fiat Strada | D8: 2026 | E8: Flex | F8: Carlos Pereira | G8: Campinas | H8: 46156 | I8: 62500 | J8: 60000 | K8: 2900 | L8: 2300 | M8: 175 | N8: 9800 | O8: 2100 | P8: 46261 | Q8: =IF(A8="","",IFERROR(P8/I8,0)) | R8: =IF(A8="","",IF(OR(I8="",J8=""),"Verificar dados",IF(I8>=J8,"Revisão vencida","Em dia"))) | T8: =IF(A8="","",IF(S8="","Verificar vencimento",IF(S8<TODAY(),"Vencido","Regular")))
A9: V006 | B9: LVM-3F26 | C9: Hyundai HB20 | D9: 2026 | E9: Flex | F9: Juliana Costa | G9: Recife | H9: 46176 | I9: 24100 | J9: 30000 | K9: 1800 | L9: 1750 | M9: 175 | N9: 5900 | O9: 780 | P9: 46298 | Q9: =IF(A9="","",IFERROR(P9/I9,0)) | R9: =IF(A9="","",IF(OR(I9="",J9=""),"Verificar dados",IF(I9>=J9,"Revisão vencida","Em dia"))) | T9: =IF(A9="","",IF(S9="","Verificar vencimento",IF(S9<TODAY(),"Vencido","Regular")))
A10: V007 | B10: MNB-5G26 | C10: Renault Kwid | D10: 2026 | E10: Elétrico | F10: Rafael Almeida | G10: Fortaleza | H10: 46212 | I10: 12400 | J10: 15000 | K10: 1200 | L10: 1600 | M10: 175 | N10: 3000 | O10: 450 | P10: 46281 | Q10: =IF(A10="","",IFERROR(P10/I10,0)) | R10: =IF(A10="","",IF(OR(I10="",J10=""),"Verificar dados",IF(I10>=J10,"Revisão vencida","Em dia"))) | T10: =IF(A10="","",IF(S10="","Verificar vencimento",IF(S10<TODAY(),"Vencido","Regular")))
A11: V008 | B11: PXT-9H26 | C11: Jeep Compass | D11: 2026 | E11: Diesel | F11: Camila Ferreira | G11: Brasília | H11: 46255 | I11: 98000 | J11: 100000 | K11: 4800 | L11: 3900 | M11: 175 | N11: 14500 | O11: 3200 | P11: 46272 | Q11: =IF(A11="","",IFERROR(P11/I11,0)) | R11: =IF(A11="","",IF(OR(I11="",J11=""),"Verificar dados",IF(I11>=J11,"Revisão vencida","Em dia"))) | T11: =IF(A11="","",IF(S11="","Verificar vencimento",IF(S11<TODAY(),"Vencido","Regular")))
P12: =IF(A12="","",SUM(K12:O12)) | Q12: =IF(A12="","",IFERROR(P12/I12,0)) | R12: =IF(A12="","",IF(OR(I12="",J12=""),"Verificar dados",IF(I12>=J12,"Revisão vencida","Em dia"))) | T12: =IF(A12="","",IF(S12="","Verificar vencimento",IF(S12<TODAY(),"Vencido","Regular")))
P13: =IF(A13="","",SUM(K13:O13)) | Q13: =IF(A13="","",IFERROR(P13/I13,0)) | R13: =IF(A13="","",IF(OR(I13="",J13=""),"Verificar dados",IF(I13>=J13,"Revisão vencida","Em dia"))) | T13: =IF(A13="","",IF(S13="","Verificar vencimento",IF(S13<TODAY(),"Vencido","Regular")))
P14: =IF(A14="","",SUM(K14:O14)) | Q14: =IF(A14="","",IFERROR(P14/I14,0)) | R14: =IF(A14="","",IF(OR(I14="",J14=""),"Verificar dados",IF(I14>=J14,"Revisão vencida","Em dia"))) | T14: =IF(A14="","",IF(S14="","Verificar vencimento",IF(S14<TODAY(),"Vencido","Regular")))
P15: =IF(A15="","",SUM(K15:O15)) | Q15: =IF(A15="","",IFERROR(P15/I15,0)) | R15: =IF(A15="","",IF(OR(I15="",J15=""),"Verificar dados",IF(I15>=J15,"Revisão vencida","Em dia"))) | T15: =IF(A15="","",IF(S15="","Verificar vencimento",IF(S15<TODAY(),"Vencido","Regular")))
P16: =IF(A16="","",SUM(K16:O16)) | Q16: =IF(A16="","",IFERROR(P16/I16,0)) | R16: =IF(A16="","",IF(OR(I16="",J16=""),"Verificar dados",IF(I16>=J16,"Revisão vencida","Em dia"))) | T16: =IF(A16="","",IF(S16="","Verificar vencimento",IF(S16<TODAY(),"Vencido","Regular")))
P17: =IF(A17="","",SUM(K17:O17)) | Q17: =IF(A17="","",IFERROR(P17/I17,0)) | R17: =IF(A17="","",IF(OR(I17="",J17=""),"Verificar dados",IF(I17>=J17,"Revisão vencida","Em dia"))) | T17: =IF(A17="","",IF(S17="","Verificar vencimento",IF(S17<TODAY(),"Vencido","Regular")))
P18: =IF(A18="","",SUM(K18:O18)) | Q18: =IF(A18="","",IFERROR(P18/I18,0)) | R18: =IF(A18="","",IF(OR(I18="",J18=""),"Verificar dados",IF(I18>=J18,"Revisão vencida","Em dia"))) | T18: =IF(A18="","",IF(S18="","Verificar vencimento",IF(S18<TODAY(),"Vencido","Regular")))
P19: =IF(A19="","",SUM(K19:O19)) | Q19: =IF(A19="","",IFERROR(P19/I19,0)) | R19: =IF(A19="","",IF(OR(I19="",J19=""),"Verificar dados",IF(I19>=J19,"Revisão vencida","Em dia"))) | T19: =IF(A19="","",IF(S19="","Verificar vencimento",IF(S19<TODAY(),"Vencido","Regular")))
P20: =IF(A20="","",SUM(K20:O20)) | Q20: =IF(A20="","",IFERROR(P20/I20,0)) | R20: =IF(A20="","",IF(OR(I20="",J20=""),"Verificar dados",IF(I20>=J20,"Revisão vencida","Em dia"))) | T20: =IF(A20="","",IF(S20="","Verificar vencimento",IF(S20<TODAY(),"Vencido","Regular")))
P21: =IF(A21="","",SUM(K21:O21)) | Q21: =IF(A21="","",IFERROR(P21/I21,0)) | R21: =IF(A21="","",IF(OR(I21="",J21=""),"Verificar dados",IF(I21>=J21,"Revisão vencida","Em dia"))) | T21: =IF(A21="","",IF(S21="","Verificar vencimento",IF(S21<TODAY(),"Vencido","Regular")))
P22: =IF(A22="","",SUM(K22:O22)) | Q22: =IF(A22="","",IFERROR(P22/I22,0)) | R22: =IF(A22="","",IF(OR(I22="",J22=""),"Verificar dados",IF(I22>=J22,"Revisão vencida","Em dia"))) | T22: =IF(A22="","",IF(S22="","Verificar vencimento",IF(S22<TODAY(),"Vencido","Regular")))
P23: =IF(A23="","",SUM(K23:O23)) | Q23: =IF(A23="","",IFERROR(P23/I23,0)) | R23: =IF(A23="","",IF(OR(I23="",J23=""),"Verificar dados",IF(I23>=J23,"Revisão vencida","Em dia"))) | T23: =IF(A23="","",IF(S23="","Verificar vencimento",IF(S23<TODAY(),"Vencido","Regular")))
... P103: =IF(A103="","",SUM(K103:O103)) | Q103: =IF(A103="","",IFERROR(P103/I103,0)) | R103: =IF(A103="","",IF(OR(I103="",J103=""),"Verificar dados",IF(I103>=J103,"Revisão vencida","Em dia"))) | T103: =IF(A103="","",IF(S103="","Verificar vencimento",IF(S103<TODAY(),"Vencido","Regular")))

Sheet Manutenções e Abastecimentos
A1: Manutenções e Abastecimentos
A2: Registre cada abastecimento, manutenção, troca de pneus, seguro ou documentação. Campos em amarelo são editáveis.
A3: Data | B3: Placa | C3: Tipo de registro | D3: Descrição | E3: Oficina/Posto | F3: Cidade | G3: Quilometragem | H3: Litros abastecidos | I3: Preço por litro (R$) | J3: Valor total (R$) | K3: Próximo serviço (km) | L3: Observações | M3: Modelo do veículo | N3: Categoria de custo
A4: 46037 | B4: FTR-2A26 | C4: Abastecimento | D4: Gasolina comum | E4: Posto Avenida | F4: São Paulo | G4: 40500 | H4: 43.2 | I4: 5.89 | J4: =IF(B4="","",IF(C4="Abastecimento",IFERROR(H4*I4,0),0)) | L4: Abastecimento urbano | M4: =IF(B4="","",IFERROR(VLOOKUP(B4,'Veículos'!$B$4:$C$103,2,FALSE),"Placa não cadastrada")) | N4: =IF(B4="","",IF(C4="Abastecimento","Combustível","Manutenção"))
A5: 46063 | B5: FTR-2A26 | C5: Manutenção | D5: Troca de óleo e filtros | E5: Oficina Centro Auto | F5: São Paulo | G5: 44600 | J5: =IF(B5="","",IF(C5="Abastecimento",IFERROR(H5*I5,0),0)) | K5: 50000 | L5: Revisão preventiva | M5: =IF(B5="","",IFERROR(VLOOKUP(B5,'Veículos'!$B$4:$C$103,2,FALSE),"Placa não cadastrada")) | N5: =IF(B5="","",IF(C5="Abastecimento","Combustível","Manutenção"))
A6: 46075 | B6: GKM-4B26 | C6: Abastecimento | D6: Etanol hidratado | E6: Posto Carioca | F6: Rio de Janeiro | G6: 25400 | H6: 38.5 | I6: 4.39 | J6: =IF(B6="","",IF(C6="Abastecimento",IFERROR(H6*I6,0),0)) | L6: Uso misto | M6: =IF(B6="","",IFERROR(VLOOKUP(B6,'Veículos'!$B$4:$C$103,2,FALSE),"Placa não cadastrada")) | N6: =IF(B6="","",IF(C6="Abastecimento","Combustível","Manutenção"))
A7: 46098 | B7: HPL-7C26 | C7: Manutenção | D7: Revisão de freios | E7: Moto Center BH | F7: Belo Horizonte | G7: 17850 | J7: =IF(B7="","",IF(C7="Abastecimento",IFERROR(H7*I7,0),0)) | K7: 18000 | L7: Pastilhas e ajuste | M7: =IF(B7="","",IFERROR(VLOOKUP(B7,'Veículos'!$B$4:$C$103,2,FALSE),"Placa não cadastrada")) | N7: =IF(B7="","",IF(C7="Abastecimento","Combustível","Manutenção"))
A8: 46123 | B8: JQA-1D26 | C8: Abastecimento | D8: Gasolina aditivada | E8: Posto Jardim | F8: Curitiba | G8: 32600 | H8: 47.8 | I8: 6.19 | J8: =IF(B8="","",IF(C8="Abastecimento",IFERROR(H8*I8,0),0)) | L8: Viagem curta | M8: =IF(B8="","",IFERROR(VLOOKUP(B8,'Veículos'!$B$4:$C$103,2,FALSE),"Placa não cadastrada")) | N8: =IF(B8="","",IF(C8="Abastecimento","Combustível","Manutenção"))
A9: 46161 | B9: KRS-8E26 | C9: Pneu | D9: Troca de dois pneus | E9: Pneus Campinas | F9: Campinas | G9: 59800 | J9: =IF(B9="","",IF(C9="Abastecimento",IFERROR(H9*I9,0),0)) | K9: 65000 | L9: Alinhamento incluído | M9: =IF(B9="","",IFERROR(VLOOKUP(B9,'Veículos'!$B$4:$C$103,2,FALSE),"Placa não cadastrada")) | N9: =IF(B9="","",IF(C9="Abastecimento","Combustível","Manutenção"))
A10: 46181 | B10: LVM-3F26 | C10: Abastecimento | D10: Etanol hidratado | E10: Posto Boa Viagem | F10: Recife | G10: 21800 | H10: 40.1 | I10: 4.49 | J10: =IF(B10="","",IF(C10="Abastecimento",IFERROR(H10*I10,0),0)) | L10: Uso urbano | M10: =IF(B10="","",IFERROR(VLOOKUP(B10,'Veículos'!$B$4:$C$103,2,FALSE),"Placa não cadastrada")) | N10: =IF(B10="","",IF(C10="Abastecimento","Combustível","Manutenção"))
A11: 46217 | B11: MNB-5G26 | C11: Manutenção | D11: Revisão do sistema elétrico | E11: Eletro Car Fortaleza | F11: Fortaleza | G11: 11900 | J11: =IF(B11="","",IF(C11="Abastecimento",IFERROR(H11*I11,0),0)) | K11: 15000 | L11: Inspeção preventiva | M11: =IF(B11="","",IFERROR(VLOOKUP(B11,'Veículos'!$B$4:$C$103,2,FALSE),"Placa não cadastrada")) | N11: =IF(B11="","",IF(C11="Abastecimento","Combustível","Manutenção"))
A12: 46252 | B12: PXT-9H26 | C12: Abastecimento | D12: Diesel S10 | E12: Posto Brasília Sul | F12: Brasília | G12: 96500 | H12: 55.4 | I12: 6.09 | J12: =IF(B12="","",IF(C12="Abastecimento",IFERROR(H12*I12,0),0)) | L12: Rodovia | M12: =IF(B12="","",IFERROR(VLOOKUP(B12,'Veículos'!$B$4:$C$103,2,FALSE),"Placa não cadastrada")) | N12: =IF(B12="","",IF(C12="Abastecimento","Combustível","Manutenção"))
A13: 46267 | B13: GKM-4B26 | C13: Documentação | D13: Pagamento de licenciamento | E13: Detran Digital | F13: Rio de Janeiro | G13: 27100 | J13: =IF(B13="","",IF(C13="Abastecimento",IFERROR(H13*I13,0),0)) | L13: Comprovante arquivado | M13: =IF(B13="","",IFERROR(VLOOKUP(B13,'Veículos'!$B$4:$C$103,2,FALSE),"Placa não cadastrada")) | N13: =IF(B13="","",IF(C13="Abastecimento","Combustível","Manutenção"))
J14: =IF(B14="","",IF(C14="Abastecimento",IFERROR(H14*I14,0),0)) | M14: =IF(B14="","",IFERROR(VLOOKUP(B14,'Veículos'!$B$4:$C$103,2,FALSE),"Placa não cadastrada")) | N14: =IF(B14="","",IF(C14="Abastecimento","Combustível","Manutenção"))
J15: =IF(B15="","",IF(C15="Abastecimento",IFERROR(H15*I15,0),0)) | M15: =IF(B15="","",IFERROR(VLOOKUP(B15,'Veículos'!$B$4:$C$103,2,FALSE),"Placa não cadastrada")) | N15: =IF(B15="","",IF(C15="Abastecimento","Combustível","Manutenção"))
J16: =IF(B16="","",IF(C16="Abastecimento",IFERROR(H16*I16,0),0)) | M16: =IF(B16="","",IFERROR(VLOOKUP(B16,'Veículos'!$B$4:$C$103,2,FALSE),"Placa não cadastrada")) | N16: =IF(B16="","",IF(C16="Abastecimento","Combustível","Manutenção"))
J17: =IF(B17="","",IF(C17="Abastecimento",IFERROR(H17*I17,0),0)) | M17: =IF(B17="","",IFERROR(VLOOKUP(B17,'Veículos'!$B$4:$C$103,2,FALSE),"Placa não cadastrada")) | N17: =IF(B17="","",IF(C17="Abastecimento","Combustível","Manutenção"))
J18: =IF(B18="","",IF(C18="Abastecimento",IFERROR(H18*I18,0),0)) | M18: =IF(B18="","",IFERROR(VLOOKUP(B18,'Veículos'!$B$4:$C$103,2,FALSE),"Placa não cadastrada")) | N18: =IF(B18="","",IF(C18="Abastecimento","Combustível","Manutenção"))
J19: =IF(B19="","",IF(C19="Abastecimento",IFERROR(H19*I19,0),0)) | M19: =IF(B19="","",IFERROR(VLOOKUP(B19,'Veículos'!$B$4:$C$103,2,FALSE),"Placa não cadastrada")) | N19: =IF(B19="","",IF(C19="Abastecimento","Combustível","Manutenção"))
J20: =IF(B20="","",IF(C20="Abastecimento",IFERROR(H20*I20,0),0)) | M20: =IF(B20="","",IFERROR(VLOOKUP(B20,'Veículos'!$B$4:$C$103,2,FALSE),"Placa não cadastrada")) | N20: =IF(B20="","",IF(C20="Abastecimento","Combustível","Manutenção"))
J21: =IF(B21="","",IF(C21="Abastecimento",IFERROR(H21*I21,0),0)) | M21: =IF(B21="","",IFERROR(VLOOKUP(B21,'Veículos'!$B$4:$C$103,2,FALSE),"Placa não cadastrada")) | N21: =IF(B21="","",IF(C21="Abastecimento","Combustível","Manutenção"))
J22: =IF(B22="","",IF(C22="Abastecimento",IFERROR(H22*I22,0),0)) | M22: =IF(B22="","",IFERROR(VLOOKUP(B22,'Veículos'!$B$4:$C$103,2,FALSE),"Placa não cadastrada")) | N22: =IF(B22="","",IF(C22="Abastecimento","Combustível","Manutenção"))
J23: =IF(B23="","",IF(C23="Abastecimento",IFERROR(H23*I23,0),0)) | M23: =IF(B23="","",IFERROR(VLOOKUP(B23,'Veículos'!$B$4:$C$103,2,FALSE),"Placa não cadastrada")) | N23: =IF(B23="","",IF(C23="Abastecimento","Combustível","Manutenção"))
J24: =IF(B24="","",IF(C24="Abastecimento",IFERROR(H24*I24,0),0)) | M24: =IF(B24="","",IFERROR(VLOOKUP(B24,'Veículos'!$B$4:$C$103,2,FALSE),"Placa não cadastrada")) | N24: =IF(B24="","",IF(C24="Abastecimento","Combustível","Manutenção"))
J25: =IF(B25="","",IF(C25="Abastecimento",IFERROR(H25*I25,0),0)) | M25: =IF(B25="","",IFERROR(VLOOKUP(B25,'Veículos'!$B$4:$C$103,2,FALSE),"Placa não cadastrada")) | N25: =IF(B25="","",IF(C25="Abastecimento","Combustível","Manutenção"))
... J103: =IF(B103="","",IF(C103="Abastecimento",IFERROR(H103*I103,0),0)) | M103: =IF(B103="","",IFERROR(VLOOKUP(B103,'Veículos'!$B$4:$C$103,2,FALSE),"Placa não cadastrada")) | N103: =IF(B103="","",IF(C103="Abastecimento","Combustível","Manutenção"))

Sheet Painel
A1: Painel de Controle da Frota
A2: Indicadores atualizados a partir das planilhas Veículos e Manutenções e Abastecimentos.
A4: Total de veículos | D4: =COUNTA('Veículos'!$B$4:$B$103)
A5: Custo anual estimado da frota | D5: =SUM('Veículos'!$P$4:$P$103)
A6: Custo médio por veículo | D6: =IFERROR(AVERAGE('Veículos'!$P$4:$P$103),0)
A7: Veículos com revisão vencida | D7: =COUNTIF('Veículos'!$R$4:$R$103,"Revisão vencida")
A8: Percentual de veículos em dia | D8: =IFERROR(COUNTIF('Veículos'!$R$4:$R$103,"Em dia")/COUNTA('Veículos'!$B$4:$B$103),0)
A9: Total gasto com combustível | D9: =SUM('Veículos'!$N$4:$N$103)
A10: Custo total de manutenções | D10: =SUM('Veículos'!$O$4:$O$103)
A14: Distribuição dos gastos | B14: Valor (R$) | D14: Tipo de combustível | E14: Quantidade | G14: Resumo dos veículos | H14: Custo anual (R$)
A15: Combustível | B15: =SUM('Veículos'!$N$4:$N$103) | D15: Gasolina | E15: =COUNTIF('Veículos'!$E$4:$E$103,D15) | G15: =IF('Veículos'!$B$4="","",'Veículos'!$B$4) | H15: =IF('Veículos'!$P$4="","",'Veículos'!$P$4)
A16: Manutenção | B16: =SUM('Veículos'!$O$4:$O$103) | D16: Etanol | E16: =COUNTIF('Veículos'!$E$4:$E$103,D16) | G16: =IF('Veículos'!$B$5="","",'Veículos'!$B$5) | H16: =IF('Veículos'!$P$5="","",'Veículos'!$P$5)
A17: IPVA | B17: =SUM('Veículos'!$K$4:$K$103) | D17: Diesel | E17: =COUNTIF('Veículos'!$E$4:$E$103,D17) | G17: =IF('Veículos'!$B$6="","",'Veículos'!$B$6) | H17: =IF('Veículos'!$P$6="","",'Veículos'!$P$6)
A18: Seguro | B18: =SUM('Veículos'!$L$4:$L$103) | D18: Flex | E18: =COUNTIF('Veículos'!$E$4:$E$103,D18) | G18: =IF('Veículos'!$B$7="","",'Veículos'!$B$7) | H18: =IF('Veículos'!$P$7="","",'Veículos'!$P$7)
A19: Licenciamento | B19: =SUM('Veículos'!$M$4:$M$103) | D19: Elétrico | E19: =COUNTIF('Veículos'!$E$4:$E$103,D19) | G19: =IF('Veículos'!$B$8="","",'Veículos'!$B$8) | H19: =IF('Veículos'!$P$8="","",'Veículos'!$P$8)
G20: =IF('Veículos'!$B$9="","",'Veículos'!$B$9) | H20: =IF('Veículos'!$P$9="","",'Veículos'!$P$9)
G21: =IF('Veículos'!$B$10="","",'Veículos'!$B$10) | H21: =IF('Veículos'!$P$10="","",'Veículos'!$P$10)
G22: =IF('Veículos'!$B$11="","",'Veículos'!$B$11) | H22: =IF('Veículos'!$P$11="","",'Veículos'!$P$11)
G23: =IF('Veículos'!$B$12="","",'Veículos'!$B$12) | H23: =IF('Veículos'!$P$12="","",'Veículos'!$P$12)
G24: =IF('Veículos'!$B$13="","",'Veículos'!$B$13) | H24: =IF('Veículos'!$P$13="","",'Veículos'!$P$13)
G25: =IF('Veículos'!$B$14="","",'Veículos'!$B$14) | H25: =IF('Veículos'!$P$14="","",'Veículos'!$P$14)
G26: =IF('Veículos'!$B$15="","",'Veículos'!$B$15) | H26: =IF('Veículos'!$P$15="","",'Veículos'!$P$15)
G27: =IF('Veículos'!$B$16="","",'Veículos'!$B$16) | H27: =IF('Veículos'!$P$16="","",'Veículos'!$P$16)
G28: =IF('Veículos'!$B$17="","",'Veículos'!$B$17) | H28: =IF('Veículos'!$P$17="","",'Veículos'!$P$17)
G29: =IF('Veículos'!$B$18="","",'Veículos'!$B$18) | H29: =IF('Veículos'!$P$18="","",'Veículos'!$P$18)
G30: =IF('Veículos'!$B$19="","",'Veículos'!$B$19) | H30: =IF('Veículos'!$P$19="","",'Veículos'!$P$19)
G31: =IF('Veículos'!$B$20="","",'Veículos'!$B$20) | H31: =IF('Veículos'!$P$20="","",'Veículos'!$P$20)
G32: =IF('Veículos'!$B$21="","",'Veículos'!$B$21) | H32: =IF('Veículos'!$P$21="","",'Veículos'!$P$21)
G33: =IF('Veículos'!$B$22="","",'Veículos'!$B$22) | H33: =IF('Veículos'!$P$22="","",'Veículos'!$P$22)
G34: =IF('Veículos'!$B$23="","",'Veículos'!$B$23) | H34: =IF('Veículos'!$P$23="","",'Veículos'!$P$23)
G35: =IF('Veículos'!$B$24="","",'Veículos'!$B$24) | H35: =IF('Veículos'!$P$24="","",'Veículos'!$P$24)
G36: =IF('Veículos'!$B$25="","",'Veículos'!$B$25) | H36: =IF('Veículos'!$P$25="","",'Veículos'!$P$25)
G37: =IF('Veículos'!$B$26="","",'Veículos'!$B$26) | H37: =IF('Veículos'!$P$26="","",'Veículos'!$P$26)
G38: =IF('Veículos'!$B$27="","",'Veículos'!$B$27) | H38: =IF('Veículos'!$P$27="","",'Veículos'!$P$27)
G39: =IF('Veículos'!$B$28="","",'Veículos'!$B$28) | H39: =IF('Veículos'!$P$28="","",'Veículos'!$P$28)
G40: =IF('Veículos'!$B$29="","",'Veículos'!$B$29) | H40: =IF('Veículos'!$P$29="","",'Veículos'!$P$29)
G41: =IF('Veículos'!$B$30="","",'Veículos'!$B$30) | H41: =IF('Veículos'!$P$30="","",'Veículos'!$P$30)
G42: =IF('Veículos'!$B$31="","",'Veículos'!$B$31) | H42: =IF('Veículos'!$P$31="","",'Veículos'!$P$31)
G43: =IF('Veículos'!$B$32="","",'Veículos'!$B$32) | H43: =IF('Veículos'!$P$32="","",'Veículos'!$P$32)
G44: =IF('Veículos'!$B$33="","",'Veículos'!$B$33) | H44: =IF('Veículos'!$P$33="","",'Veículos'!$P$33)
...

Sheet Instruções
A1: Instruções de Uso
A3: Planilha | B3: Como utilizar | C3: Campos importantes | D3: Orientação
A4: Veículos | B4: Cadastre um veículo por linha usando os campos em amarelo. | C4: Placa, responsável, quilometragem, despesas e vencimento do seguro. | D4: Não altere as colunas de custo anual, custo por km e status.
A5: Veículos | B5: Atualize a quilometragem e a próxima revisão sempre que houver uso ou serviço. | C5: Quilometragem atual e próxima revisão (km). | D5: O status fica vermelho quando a quilometragem atual alcança a revisão.
A6: Veículos | B6: Informe o vencimento real da apólice de seguro. | C6: Vencimento do seguro. | D6: A situação documental fica vermelha quando a data já venceu.
A7: Manutenções e Abastecimentos | B7: Registre cada gasto ou serviço em uma nova linha. | C7: Data, placa, tipo de registro, oficina/posto e quilometragem. | D7: Para abastecimentos, informe litros e preço por litro para calcular o valor total.
A8: Manutenções e Abastecimentos | B8: Use os menus de seleção para padronizar os registros. | C8: Tipo de registro e tipo de combustível. | D8: O modelo do veículo é localizado automaticamente pela placa.
A9: Painel | B9: Acompanhe os principais custos e alertas da frota. | C9: Indicadores, gráficos de custos e distribuição por combustível. | D9: Os dados são atualizados automaticamente ao abrir o arquivo no Excel.
A10: Cores | B10: Amarelo indica campo editável; verde indica situação regular; vermelho indica alerta. | C10: Campos com fórmulas possuem preenchimento claro. | D10: Mantenha os filtros ativos para localizar informações rapidamente.
