Workbook

Sheet Lançamentos
A1: ID do lançamento | B1: Data da leitura | C1: Máquina | D1: Código da máquina | E1: Tipo de máquina | F1: Operador responsável | G1: Cidade/obra | H1: Horímetro inicial | I1: Horímetro final | J1: Horas trabalhadas | K1: Meta diária de horas | L1: Utilização (%) | M1: Próxima manutenção em horas | N1: Horas restantes para manutenção | O1: Status da manutenção | P1: Tipo de atividade | Q1: Custo de combustível (R$) | R1: Custo de manutenção (R$) | S1: Observações
A2: 1 | B2: 46237 | C2: =IF(D2="","",IFERROR(VLOOKUP(D2,'Cadastro de Máquinas'!$A$2:$J$101,2,FALSE),"Não cadastrada")) | D2: ESC-001 | E2: =IF(D2="","",IFERROR(VLOOKUP(D2,'Cadastro de Máquinas'!$A$2:$J$101,3,FALSE),"Não cadastrada")) | F2: João Silva | G2: =IF(D2="","",IFERROR(VLOOKUP(D2,'Cadastro de Máquinas'!$A$2:$J$101,6,FALSE),"Não cadastrada")) | H2: 1150 | I2: 1158 | J2: =IF(OR(H2="",I2=""),"",IFERROR(I2-H2,0)) | K2: 8 | L2: =IF(OR(J2="",K2=""),"",IFERROR(J2/K2,0)) | M2: =IF(OR(D2="",H2=""),"",IFERROR(H2+VLOOKUP(D2,'Cadastro de Máquinas'!$A$2:$J$101,8,FALSE),"")) | N2: =IF(OR(M2="",I2=""),"",M2-I2) | O2: =IF(N2="","",IF(N2<=0,"Vencida",IF(N2<=20,"Próxima","Em dia"))) | P2: Operação | Q2: 650 | R2: 120 | S2: Escavação de fundação concluída.
A3: 2 | B3: 46239 | C3: =IF(D3="","",IFERROR(VLOOKUP(D3,'Cadastro de Máquinas'!$A$2:$J$101,2,FALSE),"Não cadastrada")) | D3: PAC-002 | E3: =IF(D3="","",IFERROR(VLOOKUP(D3,'Cadastro de Máquinas'!$A$2:$J$101,3,FALSE),"Não cadastrada")) | F3: Maria Oliveira | G3: =IF(D3="","",IFERROR(VLOOKUP(D3,'Cadastro de Máquinas'!$A$2:$J$101,6,FALSE),"Não cadastrada")) | H3: 2430 | I3: 2455 | J3: =IF(OR(H3="",I3=""),"",IFERROR(I3-H3,0)) | K3: 8 | L3: =IF(OR(J3="",K3=""),"",IFERROR(J3/K3,0)) | M3: =IF(OR(D3="",H3=""),"",IFERROR(H3+VLOOKUP(D3,'Cadastro de Máquinas'!$A$2:$J$101,8,FALSE),"")) | N3: =IF(OR(M3="",I3=""),"",M3-I3) | O3: =IF(N3="","",IF(N3<=0,"Vencida",IF(N3<=20,"Próxima","Em dia"))) | P3: Carregamento | Q3: 720 | R3: 0 | S3: Apoio ao transporte de agregados.
A4: 3 | B4: 46242 | C4: =IF(D4="","",IFERROR(VLOOKUP(D4,'Cadastro de Máquinas'!$A$2:$J$101,2,FALSE),"Não cadastrada")) | D4: RET-003 | E4: =IF(D4="","",IFERROR(VLOOKUP(D4,'Cadastro de Máquinas'!$A$2:$J$101,3,FALSE),"Não cadastrada")) | F4: Pedro Santos | G4: =IF(D4="","",IFERROR(VLOOKUP(D4,'Cadastro de Máquinas'!$A$2:$J$101,6,FALSE),"Não cadastrada")) | H4: 3675 | I4: 3710 | J4: =IF(OR(H4="",I4=""),"",IFERROR(I4-H4,0)) | K4: 8 | L4: =IF(OR(J4="",K4=""),"",IFERROR(J4/K4,0)) | M4: =IF(OR(D4="",H4=""),"",IFERROR(H4+VLOOKUP(D4,'Cadastro de Máquinas'!$A$2:$J$101,8,FALSE),"")) | N4: =IF(OR(M4="",I4=""),"",M4-I4) | O4: =IF(N4="","",IF(N4<=0,"Vencida",IF(N4<=20,"Próxima","Em dia"))) | P4: Operação | Q4: 540 | R4: 2850 | S4: Necessita revisão preventiva imediata.
A5: 4 | B5: 46244 | C5: =IF(D5="","",IFERROR(VLOOKUP(D5,'Cadastro de Máquinas'!$A$2:$J$101,2,FALSE),"Não cadastrada")) | D5: MOT-004 | E5: =IF(D5="","",IFERROR(VLOOKUP(D5,'Cadastro de Máquinas'!$A$2:$J$101,3,FALSE),"Não cadastrada")) | F5: Ana Souza | G5: =IF(D5="","",IFERROR(VLOOKUP(D5,'Cadastro de Máquinas'!$A$2:$J$101,6,FALSE),"Não cadastrada")) | H5: 5120 | I5: 5142 | J5: =IF(OR(H5="",I5=""),"",IFERROR(I5-H5,0)) | K5: 8 | L5: =IF(OR(J5="",K5=""),"",IFERROR(J5/K5,0)) | M5: =IF(OR(D5="",H5=""),"",IFERROR(H5+VLOOKUP(D5,'Cadastro de Máquinas'!$A$2:$J$101,8,FALSE),"")) | N5: =IF(OR(M5="",I5=""),"",M5-I5) | O5: =IF(N5="","",IF(N5<=0,"Vencida",IF(N5<=20,"Próxima","Em dia"))) | P5: Nivelamento | Q5: 950 | R5: 420 | S5: Regularização do terreno da obra.
A6: 5 | B6: 46247 | C6: =IF(D6="","",IFERROR(VLOOKUP(D6,'Cadastro de Máquinas'!$A$2:$J$101,2,FALSE),"Não cadastrada")) | D6: EMP-005 | E6: =IF(D6="","",IFERROR(VLOOKUP(D6,'Cadastro de Máquinas'!$A$2:$J$101,3,FALSE),"Não cadastrada")) | F6: Carlos Pereira | G6: =IF(D6="","",IFERROR(VLOOKUP(D6,'Cadastro de Máquinas'!$A$2:$J$101,6,FALSE),"Não cadastrada")) | H6: 6780 | I6: 6824 | J6: =IF(OR(H6="",I6=""),"",IFERROR(I6-H6,0)) | K6: 8 | L6: =IF(OR(J6="",K6=""),"",IFERROR(J6/K6,0)) | M6: =IF(OR(D6="",H6=""),"",IFERROR(H6+VLOOKUP(D6,'Cadastro de Máquinas'!$A$2:$J$101,8,FALSE),"")) | N6: =IF(OR(M6="",I6=""),"",M6-I6) | O6: =IF(N6="","",IF(N6<=0,"Vencida",IF(N6<=20,"Próxima","Em dia"))) | P6: Movimentação interna | Q6: 180 | R6: 0 | S6: Uso no pátio de materiais.
A7: 6 | B7: 46250 | C7: =IF(D7="","",IFERROR(VLOOKUP(D7,'Cadastro de Máquinas'!$A$2:$J$101,2,FALSE),"Não cadastrada")) | D7: MIN-006 | E7: =IF(D7="","",IFERROR(VLOOKUP(D7,'Cadastro de Máquinas'!$A$2:$J$101,3,FALSE),"Não cadastrada")) | F7: Juliana Costa | G7: =IF(D7="","",IFERROR(VLOOKUP(D7,'Cadastro de Máquinas'!$A$2:$J$101,6,FALSE),"Não cadastrada")) | H7: 2980 | I7: 3012 | J7: =IF(OR(H7="",I7=""),"",IFERROR(I7-H7,0)) | K7: 8 | L7: =IF(OR(J7="",K7=""),"",IFERROR(J7/K7,0)) | M7: =IF(OR(D7="",H7=""),"",IFERROR(H7+VLOOKUP(D7,'Cadastro de Máquinas'!$A$2:$J$101,8,FALSE),"")) | N7: =IF(OR(M7="",I7=""),"",M7-I7) | O7: =IF(N7="","",IF(N7<=0,"Vencida",IF(N7<=20,"Próxima","Em dia"))) | P7: Operação | Q7: 380 | R7: 760 | S7: Revisar sistema hidráulico.
A8: 7 | B8: 46253 | C8: =IF(D8="","",IFERROR(VLOOKUP(D8,'Cadastro de Máquinas'!$A$2:$J$101,2,FALSE),"Não cadastrada")) | D8: COM-007 | E8: =IF(D8="","",IFERROR(VLOOKUP(D8,'Cadastro de Máquinas'!$A$2:$J$101,3,FALSE),"Não cadastrada")) | F8: Rafael Almeida | G8: =IF(D8="","",IFERROR(VLOOKUP(D8,'Cadastro de Máquinas'!$A$2:$J$101,6,FALSE),"Não cadastrada")) | H8: 4210 | I8: 4228 | J8: =IF(OR(H8="",I8=""),"",IFERROR(I8-H8,0)) | K8: 8 | L8: =IF(OR(J8="",K8=""),"",IFERROR(J8/K8,0)) | M8: =IF(OR(D8="",H8=""),"",IFERROR(H8+VLOOKUP(D8,'Cadastro de Máquinas'!$A$2:$J$101,8,FALSE),"")) | N8: =IF(OR(M8="",I8=""),"",M8-I8) | O8: =IF(N8="","",IF(N8<=0,"Vencida",IF(N8<=20,"Próxima","Em dia"))) | P8: Compactação | Q8: 460 | R8: 0 | S8: Compactação de base concluída.
A9: 8 | B9: 46256 | C9: =IF(D9="","",IFERROR(VLOOKUP(D9,'Cadastro de Máquinas'!$A$2:$J$101,2,FALSE),"Não cadastrada")) | D9: GUI-008 | E9: =IF(D9="","",IFERROR(VLOOKUP(D9,'Cadastro de Máquinas'!$A$2:$J$101,3,FALSE),"Não cadastrada")) | F9: Camila Ferreira | G9: =IF(D9="","",IFERROR(VLOOKUP(D9,'Cadastro de Máquinas'!$A$2:$J$101,6,FALSE),"Não cadastrada")) | H9: 1580 | I9: 1598 | J9: =IF(OR(H9="",I9=""),"",IFERROR(I9-H9,0)) | K9: 8 | L9: =IF(OR(J9="",K9=""),"",IFERROR(J9/K9,0)) | M9: =IF(OR(D9="",H9=""),"",IFERROR(H9+VLOOKUP(D9,'Cadastro de Máquinas'!$A$2:$J$101,8,FALSE),"")) | N9: =IF(OR(M9="",I9=""),"",M9-I9) | O9: =IF(N9="","",IF(N9<=0,"Vencida",IF(N9<=20,"Próxima","Em dia"))) | P9: Içamento | Q9: 820 | R9: 1500 | S9: Lubrificação programada.
A10: 9 | B10: 46259 | C10: =IF(D10="","",IFERROR(VLOOKUP(D10,'Cadastro de Máquinas'!$A$2:$J$101,2,FALSE),"Não cadastrada")) | D10: ROL-009 | E10: =IF(D10="","",IFERROR(VLOOKUP(D10,'Cadastro de Máquinas'!$A$2:$J$101,3,FALSE),"Não cadastrada")) | F10: Lucas Rodrigues | G10: =IF(D10="","",IFERROR(VLOOKUP(D10,'Cadastro de Máquinas'!$A$2:$J$101,6,FALSE),"Não cadastrada")) | H10: 5450 | I10: 5485 | J10: =IF(OR(H10="",I10=""),"",IFERROR(I10-H10,0)) | K10: 8 | L10: =IF(OR(J10="",K10=""),"",IFERROR(J10/K10,0)) | M10: =IF(OR(D10="",H10=""),"",IFERROR(H10+VLOOKUP(D10,'Cadastro de Máquinas'!$A$2:$J$101,8,FALSE),"")) | N10: =IF(OR(M10="",I10=""),"",M10-I10) | O10: =IF(N10="","",IF(N10<=0,"Vencida",IF(N10<=20,"Próxima","Em dia"))) | P10: Compactação | Q10: 610 | R10: 240 | S10: Manutenção preventiva pendente.
A11: 10 | B11: 46262 | C11: =IF(D11="","",IFERROR(VLOOKUP(D11,'Cadastro de Máquinas'!$A$2:$J$101,2,FALSE),"Não cadastrada")) | D11: TRA-010 | E11: =IF(D11="","",IFERROR(VLOOKUP(D11,'Cadastro de Máquinas'!$A$2:$J$101,3,FALSE),"Não cadastrada")) | F11: Fernanda Lima | G11: =IF(D11="","",IFERROR(VLOOKUP(D11,'Cadastro de Máquinas'!$A$2:$J$101,6,FALSE),"Não cadastrada")) | H11: 6350 | I11: 6382 | J11: =IF(OR(H11="",I11=""),"",IFERROR(I11-H11,0)) | K11: 8 | L11: =IF(OR(J11="",K11=""),"",IFERROR(J11/K11,0)) | M11: =IF(OR(D11="",H11=""),"",IFERROR(H11+VLOOKUP(D11,'Cadastro de Máquinas'!$A$2:$J$101,8,FALSE),"")) | N11: =IF(OR(M11="",I11=""),"",M11-I11) | O11: =IF(N11="","",IF(N11<=0,"Vencida",IF(N11<=20,"Próxima","Em dia"))) | P11: Terraplenagem | Q11: 900 | R11: 0 | S11: Atividade dentro do planejamento.
C12: =IF(D12="","",IFERROR(VLOOKUP(D12,'Cadastro de Máquinas'!$A$2:$J$101,2,FALSE),"Não cadastrada")) | E12: =IF(D12="","",IFERROR(VLOOKUP(D12,'Cadastro de Máquinas'!$A$2:$J$101,3,FALSE),"Não cadastrada")) | G12: =IF(D12="","",IFERROR(VLOOKUP(D12,'Cadastro de Máquinas'!$A$2:$J$101,6,FALSE),"Não cadastrada")) | J12: =IF(OR(H12="",I12=""),"",IFERROR(I12-H12,0)) | L12: =IF(OR(J12="",K12=""),"",IFERROR(J12/K12,0)) | M12: =IF(OR(D12="",H12=""),"",IFERROR(H12+VLOOKUP(D12,'Cadastro de Máquinas'!$A$2:$J$101,8,FALSE),"")) | N12: =IF(OR(M12="",I12=""),"",M12-I12) | O12: =IF(N12="","",IF(N12<=0,"Vencida",IF(N12<=20,"Próxima","Em dia")))
C13: =IF(D13="","",IFERROR(VLOOKUP(D13,'Cadastro de Máquinas'!$A$2:$J$101,2,FALSE),"Não cadastrada")) | E13: =IF(D13="","",IFERROR(VLOOKUP(D13,'Cadastro de Máquinas'!$A$2:$J$101,3,FALSE),"Não cadastrada")) | G13: =IF(D13="","",IFERROR(VLOOKUP(D13,'Cadastro de Máquinas'!$A$2:$J$101,6,FALSE),"Não cadastrada")) | J13: =IF(OR(H13="",I13=""),"",IFERROR(I13-H13,0)) | L13: =IF(OR(J13="",K13=""),"",IFERROR(J13/K13,0)) | M13: =IF(OR(D13="",H13=""),"",IFERROR(H13+VLOOKUP(D13,'Cadastro de Máquinas'!$A$2:$J$101,8,FALSE),"")) | N13: =IF(OR(M13="",I13=""),"",M13-I13) | O13: =IF(N13="","",IF(N13<=0,"Vencida",IF(N13<=20,"Próxima","Em dia")))
C14: =IF(D14="","",IFERROR(VLOOKUP(D14,'Cadastro de Máquinas'!$A$2:$J$101,2,FALSE),"Não cadastrada")) | E14: =IF(D14="","",IFERROR(VLOOKUP(D14,'Cadastro de Máquinas'!$A$2:$J$101,3,FALSE),"Não cadastrada")) | G14: =IF(D14="","",IFERROR(VLOOKUP(D14,'Cadastro de Máquinas'!$A$2:$J$101,6,FALSE),"Não cadastrada")) | J14: =IF(OR(H14="",I14=""),"",IFERROR(I14-H14,0)) | L14: =IF(OR(J14="",K14=""),"",IFERROR(J14/K14,0)) | M14: =IF(OR(D14="",H14=""),"",IFERROR(H14+VLOOKUP(D14,'Cadastro de Máquinas'!$A$2:$J$101,8,FALSE),"")) | N14: =IF(OR(M14="",I14=""),"",M14-I14) | O14: =IF(N14="","",IF(N14<=0,"Vencida",IF(N14<=20,"Próxima","Em dia")))
C15: =IF(D15="","",IFERROR(VLOOKUP(D15,'Cadastro de Máquinas'!$A$2:$J$101,2,FALSE),"Não cadastrada")) | E15: =IF(D15="","",IFERROR(VLOOKUP(D15,'Cadastro de Máquinas'!$A$2:$J$101,3,FALSE),"Não cadastrada")) | G15: =IF(D15="","",IFERROR(VLOOKUP(D15,'Cadastro de Máquinas'!$A$2:$J$101,6,FALSE),"Não cadastrada")) | J15: =IF(OR(H15="",I15=""),"",IFERROR(I15-H15,0)) | L15: =IF(OR(J15="",K15=""),"",IFERROR(J15/K15,0)) | M15: =IF(OR(D15="",H15=""),"",IFERROR(H15+VLOOKUP(D15,'Cadastro de Máquinas'!$A$2:$J$101,8,FALSE),"")) | N15: =IF(OR(M15="",I15=""),"",M15-I15) | O15: =IF(N15="","",IF(N15<=0,"Vencida",IF(N15<=20,"Próxima","Em dia")))
C16: =IF(D16="","",IFERROR(VLOOKUP(D16,'Cadastro de Máquinas'!$A$2:$J$101,2,FALSE),"Não cadastrada")) | E16: =IF(D16="","",IFERROR(VLOOKUP(D16,'Cadastro de Máquinas'!$A$2:$J$101,3,FALSE),"Não cadastrada")) | G16: =IF(D16="","",IFERROR(VLOOKUP(D16,'Cadastro de Máquinas'!$A$2:$J$101,6,FALSE),"Não cadastrada")) | J16: =IF(OR(H16="",I16=""),"",IFERROR(I16-H16,0)) | L16: =IF(OR(J16="",K16=""),"",IFERROR(J16/K16,0)) | M16: =IF(OR(D16="",H16=""),"",IFERROR(H16+VLOOKUP(D16,'Cadastro de Máquinas'!$A$2:$J$101,8,FALSE),"")) | N16: =IF(OR(M16="",I16=""),"",M16-I16) | O16: =IF(N16="","",IF(N16<=0,"Vencida",IF(N16<=20,"Próxima","Em dia")))
C17: =IF(D17="","",IFERROR(VLOOKUP(D17,'Cadastro de Máquinas'!$A$2:$J$101,2,FALSE),"Não cadastrada")) | E17: =IF(D17="","",IFERROR(VLOOKUP(D17,'Cadastro de Máquinas'!$A$2:$J$101,3,FALSE),"Não cadastrada")) | G17: =IF(D17="","",IFERROR(VLOOKUP(D17,'Cadastro de Máquinas'!$A$2:$J$101,6,FALSE),"Não cadastrada")) | J17: =IF(OR(H17="",I17=""),"",IFERROR(I17-H17,0)) | L17: =IF(OR(J17="",K17=""),"",IFERROR(J17/K17,0)) | M17: =IF(OR(D17="",H17=""),"",IFERROR(H17+VLOOKUP(D17,'Cadastro de Máquinas'!$A$2:$J$101,8,FALSE),"")) | N17: =IF(OR(M17="",I17=""),"",M17-I17) | O17: =IF(N17="","",IF(N17<=0,"Vencida",IF(N17<=20,"Próxima","Em dia")))
C18: =IF(D18="","",IFERROR(VLOOKUP(D18,'Cadastro de Máquinas'!$A$2:$J$101,2,FALSE),"Não cadastrada")) | E18: =IF(D18="","",IFERROR(VLOOKUP(D18,'Cadastro de Máquinas'!$A$2:$J$101,3,FALSE),"Não cadastrada")) | G18: =IF(D18="","",IFERROR(VLOOKUP(D18,'Cadastro de Máquinas'!$A$2:$J$101,6,FALSE),"Não cadastrada")) | J18: =IF(OR(H18="",I18=""),"",IFERROR(I18-H18,0)) | L18: =IF(OR(J18="",K18=""),"",IFERROR(J18/K18,0)) | M18: =IF(OR(D18="",H18=""),"",IFERROR(H18+VLOOKUP(D18,'Cadastro de Máquinas'!$A$2:$J$101,8,FALSE),"")) | N18: =IF(OR(M18="",I18=""),"",M18-I18) | O18: =IF(N18="","",IF(N18<=0,"Vencida",IF(N18<=20,"Próxima","Em dia")))
C19: =IF(D19="","",IFERROR(VLOOKUP(D19,'Cadastro de Máquinas'!$A$2:$J$101,2,FALSE),"Não cadastrada")) | E19: =IF(D19="","",IFERROR(VLOOKUP(D19,'Cadastro de Máquinas'!$A$2:$J$101,3,FALSE),"Não cadastrada")) | G19: =IF(D19="","",IFERROR(VLOOKUP(D19,'Cadastro de Máquinas'!$A$2:$J$101,6,FALSE),"Não cadastrada")) | J19: =IF(OR(H19="",I19=""),"",IFERROR(I19-H19,0)) | L19: =IF(OR(J19="",K19=""),"",IFERROR(J19/K19,0)) | M19: =IF(OR(D19="",H19=""),"",IFERROR(H19+VLOOKUP(D19,'Cadastro de Máquinas'!$A$2:$J$101,8,FALSE),"")) | N19: =IF(OR(M19="",I19=""),"",M19-I19) | O19: =IF(N19="","",IF(N19<=0,"Vencida",IF(N19<=20,"Próxima","Em dia")))
C20: =IF(D20="","",IFERROR(VLOOKUP(D20,'Cadastro de Máquinas'!$A$2:$J$101,2,FALSE),"Não cadastrada")) | E20: =IF(D20="","",IFERROR(VLOOKUP(D20,'Cadastro de Máquinas'!$A$2:$J$101,3,FALSE),"Não cadastrada")) | G20: =IF(D20="","",IFERROR(VLOOKUP(D20,'Cadastro de Máquinas'!$A$2:$J$101,6,FALSE),"Não cadastrada")) | J20: =IF(OR(H20="",I20=""),"",IFERROR(I20-H20,0)) | L20: =IF(OR(J20="",K20=""),"",IFERROR(J20/K20,0)) | M20: =IF(OR(D20="",H20=""),"",IFERROR(H20+VLOOKUP(D20,'Cadastro de Máquinas'!$A$2:$J$101,8,FALSE),"")) | N20: =IF(OR(M20="",I20=""),"",M20-I20) | O20: =IF(N20="","",IF(N20<=0,"Vencida",IF(N20<=20,"Próxima","Em dia")))
C21: =IF(D21="","",IFERROR(VLOOKUP(D21,'Cadastro de Máquinas'!$A$2:$J$101,2,FALSE),"Não cadastrada")) | E21: =IF(D21="","",IFERROR(VLOOKUP(D21,'Cadastro de Máquinas'!$A$2:$J$101,3,FALSE),"Não cadastrada")) | G21: =IF(D21="","",IFERROR(VLOOKUP(D21,'Cadastro de Máquinas'!$A$2:$J$101,6,FALSE),"Não cadastrada")) | J21: =IF(OR(H21="",I21=""),"",IFERROR(I21-H21,0)) | L21: =IF(OR(J21="",K21=""),"",IFERROR(J21/K21,0)) | M21: =IF(OR(D21="",H21=""),"",IFERROR(H21+VLOOKUP(D21,'Cadastro de Máquinas'!$A$2:$J$101,8,FALSE),"")) | N21: =IF(OR(M21="",I21=""),"",M21-I21) | O21: =IF(N21="","",IF(N21<=0,"Vencida",IF(N21<=20,"Próxima","Em dia")))
C22: =IF(D22="","",IFERROR(VLOOKUP(D22,'Cadastro de Máquinas'!$A$2:$J$101,2,FALSE),"Não cadastrada")) | E22: =IF(D22="","",IFERROR(VLOOKUP(D22,'Cadastro de Máquinas'!$A$2:$J$101,3,FALSE),"Não cadastrada")) | G22: =IF(D22="","",IFERROR(VLOOKUP(D22,'Cadastro de Máquinas'!$A$2:$J$101,6,FALSE),"Não cadastrada")) | J22: =IF(OR(H22="",I22=""),"",IFERROR(I22-H22,0)) | L22: =IF(OR(J22="",K22=""),"",IFERROR(J22/K22,0)) | M22: =IF(OR(D22="",H22=""),"",IFERROR(H22+VLOOKUP(D22,'Cadastro de Máquinas'!$A$2:$J$101,8,FALSE),"")) | N22: =IF(OR(M22="",I22=""),"",M22-I22) | O22: =IF(N22="","",IF(N22<=0,"Vencida",IF(N22<=20,"Próxima","Em dia")))
C23: =IF(D23="","",IFERROR(VLOOKUP(D23,'Cadastro de Máquinas'!$A$2:$J$101,2,FALSE),"Não cadastrada")) | E23: =IF(D23="","",IFERROR(VLOOKUP(D23,'Cadastro de Máquinas'!$A$2:$J$101,3,FALSE),"Não cadastrada")) | G23: =IF(D23="","",IFERROR(VLOOKUP(D23,'Cadastro de Máquinas'!$A$2:$J$101,6,FALSE),"Não cadastrada")) | J23: =IF(OR(H23="",I23=""),"",IFERROR(I23-H23,0)) | L23: =IF(OR(J23="",K23=""),"",IFERROR(J23/K23,0)) | M23: =IF(OR(D23="",H23=""),"",IFERROR(H23+VLOOKUP(D23,'Cadastro de Máquinas'!$A$2:$J$101,8,FALSE),"")) | N23: =IF(OR(M23="",I23=""),"",M23-I23) | O23: =IF(N23="","",IF(N23<=0,"Vencida",IF(N23<=20,"Próxima","Em dia")))
... C101: =IF(D101="","",IFERROR(VLOOKUP(D101,'Cadastro de Máquinas'!$A$2:$J$101,2,FALSE),"Não cadastrada")) | E101: =IF(D101="","",IFERROR(VLOOKUP(D101,'Cadastro de Máquinas'!$A$2:$J$101,3,FALSE),"Não cadastrada")) | G101: =IF(D101="","",IFERROR(VLOOKUP(D101,'Cadastro de Máquinas'!$A$2:$J$101,6,FALSE),"Não cadastrada")) | J101: =IF(OR(H101="",I101=""),"",IFERROR(I101-H101,0)) | L101: =IF(OR(J101="",K101=""),"",IFERROR(J101/K101,0)) | M101: =IF(OR(D101="",H101=""),"",IFERROR(H101+VLOOKUP(D101,'Cadastro de Máquinas'!$A$2:$J$101,8,FALSE),"")) | N101: =IF(OR(M101="",I101=""),"",M101-I101) | O101: =IF(N101="","",IF(N101<=0,"Vencida",IF(N101<=20,"Próxima","Em dia")))

Sheet Cadastro de Máquinas
A1: Código da máquina | B1: Máquina | C1: Tipo | D1: Marca/modelo | E1: Ano | F1: Cidade base | G1: Horímetro atual | H1: Intervalo de manutenção (horas) | I1: Responsável | J1: Situação
A2: ESC-001 | B2: Escavadeira hidráulica | C2: Escavadeira | D2: Caterpillar 320 GC | E2: 2026 | F2: São Paulo | G2: 1158 | H2: 100 | I2: Equipe Norte | J2: Ativa
A3: PAC-002 | B3: Pá carregadeira | C3: Carregadeira | D3: Volvo L60H | E3: 2026 | F3: Campinas | G3: 2455 | H3: 40 | I3: Equipe Centro | J3: Ativa
A4: RET-003 | B4: Retroescavadeira | C4: Retroescavadeira | D4: JCB 3CX | E4: 2026 | F4: Belo Horizonte | G4: 3710 | H4: 30 | I4: Equipe Minas | J4: Ativa
A5: MOT-004 | B5: Motoniveladora | C5: Motoniveladora | D5: Caterpillar 120K | E5: 2026 | F5: Curitiba | G5: 5142 | H5: 80 | I5: Equipe Sul | J5: Ativa
A6: EMP-005 | B6: Empilhadeira | C6: Empilhadeira | D6: Toyota 8FG | E6: 2026 | F6: Rio de Janeiro | G6: 6824 | H6: 50 | I6: Equipe Rio | J6: Ativa
A7: MIN-006 | B7: Miniescavadeira | C7: Escavadeira | D7: Bobcat E35 | E7: 2026 | F7: Porto Alegre | G7: 3012 | H7: 30 | I7: Equipe Sul | J7: Ativa
A8: COM-007 | B8: Compactador de solo | C8: Compactador | D8: Bomag BW 211 | E8: 2026 | F8: Salvador | G8: 4228 | H8: 120 | I8: Equipe Nordeste | J8: Ativa
A9: GUI-008 | B9: Guindaste articulado | C9: Guindaste | D9: Palfinger PK 16500 | E9: 2026 | F9: Brasília | G9: 1598 | H9: 35 | I9: Equipe Centro | J9: Ativa
A10: ROL-009 | B10: Rolo compactador | C10: Compactador | D10: Dynapac CA2500 | E10: 2026 | F10: São Paulo | G10: 5485 | H10: 30 | I10: Equipe Norte | J10: Em manutenção
A11: TRA-010 | B11: Trator de esteira | C11: Trator | D11: Caterpillar D6K | E11: 2026 | F11: Campinas | G11: 6382 | H11: 70 | I11: Equipe Centro | J11: Ativa

Sheet Resumo
A1: Resumo Executivo | Controle de Horímetro de Máquinas
A3: Indicadores principais | H3: Status de manutenção
A4: Indicador | B4: Valor | H4: Status | I4: Quantidade
A5: Total de horas trabalhadas | B5: =SUM('Lançamentos'!$J$2:$J$101) | H5: Em dia | I5: =COUNTIF('Lançamentos'!$O$2:$O$101,H5)
A6: Média de horas por lançamento | B6: =IFERROR(AVERAGE('Lançamentos'!$J$2:$J$101),0) | H6: Próxima | I6: =COUNTIF('Lançamentos'!$O$2:$O$101,H6)
A7: Total de combustível | B7: =SUM('Lançamentos'!$Q$2:$Q$101) | H7: Vencida | I7: =COUNTIF('Lançamentos'!$O$2:$O$101,H7)
A8: Total de manutenção | B8: =SUM('Lançamentos'!$R$2:$R$101)
A9: Máquinas com manutenção vencida | B9: =COUNTIF('Lançamentos'!$O$2:$O$101,"Vencida")
A10: Percentual de lançamentos em dia | B10: =IFERROR(COUNTIF('Lançamentos'!$O$2:$O$101,"Em dia")/COUNTA('Lançamentos'!$D$2:$D$101),0)
A11: Maior utilização registrada | B11: =IFERROR(MAX('Lançamentos'!$L$2:$L$101),0)
A13: Resumo por máquina
A14: Código | B14: Máquina | C14: Horas trabalhadas | D14: Combustível (R$) | E14: Manutenção (R$) | F14: Custo total (R$)
A15: ESC-001 | B15: =IFERROR(VLOOKUP($A15,'Cadastro de Máquinas'!$A$2:$J$101,2,FALSE),"") | C15: =IF($A15="","",SUMIF('Lançamentos'!$D$2:$D$101,$A15,'Lançamentos'!$J$2:$J$101)) | D15: =IF($A15="","",SUMIF('Lançamentos'!$D$2:$D$101,$A15,'Lançamentos'!$Q$2:$Q$101)) | E15: =IF($A15="","",SUMIF('Lançamentos'!$D$2:$D$101,$A15,'Lançamentos'!$R$2:$R$101)) | F15: =IF($A15="","",D15+E15)
A16: PAC-002 | B16: =IFERROR(VLOOKUP($A16,'Cadastro de Máquinas'!$A$2:$J$101,2,FALSE),"") | C16: =IF($A16="","",SUMIF('Lançamentos'!$D$2:$D$101,$A16,'Lançamentos'!$J$2:$J$101)) | D16: =IF($A16="","",SUMIF('Lançamentos'!$D$2:$D$101,$A16,'Lançamentos'!$Q$2:$Q$101)) | E16: =IF($A16="","",SUMIF('Lançamentos'!$D$2:$D$101,$A16,'Lançamentos'!$R$2:$R$101)) | F16: =IF($A16="","",D16+E16)
A17: RET-003 | B17: =IFERROR(VLOOKUP($A17,'Cadastro de Máquinas'!$A$2:$J$101,2,FALSE),"") | C17: =IF($A17="","",SUMIF('Lançamentos'!$D$2:$D$101,$A17,'Lançamentos'!$J$2:$J$101)) | D17: =IF($A17="","",SUMIF('Lançamentos'!$D$2:$D$101,$A17,'Lançamentos'!$Q$2:$Q$101)) | E17: =IF($A17="","",SUMIF('Lançamentos'!$D$2:$D$101,$A17,'Lançamentos'!$R$2:$R$101)) | F17: =IF($A17="","",D17+E17)
A18: MOT-004 | B18: =IFERROR(VLOOKUP($A18,'Cadastro de Máquinas'!$A$2:$J$101,2,FALSE),"") | C18: =IF($A18="","",SUMIF('Lançamentos'!$D$2:$D$101,$A18,'Lançamentos'!$J$2:$J$101)) | D18: =IF($A18="","",SUMIF('Lançamentos'!$D$2:$D$101,$A18,'Lançamentos'!$Q$2:$Q$101)) | E18: =IF($A18="","",SUMIF('Lançamentos'!$D$2:$D$101,$A18,'Lançamentos'!$R$2:$R$101)) | F18: =IF($A18="","",D18+E18)
A19: EMP-005 | B19: =IFERROR(VLOOKUP($A19,'Cadastro de Máquinas'!$A$2:$J$101,2,FALSE),"") | C19: =IF($A19="","",SUMIF('Lançamentos'!$D$2:$D$101,$A19,'Lançamentos'!$J$2:$J$101)) | D19: =IF($A19="","",SUMIF('Lançamentos'!$D$2:$D$101,$A19,'Lançamentos'!$Q$2:$Q$101)) | E19: =IF($A19="","",SUMIF('Lançamentos'!$D$2:$D$101,$A19,'Lançamentos'!$R$2:$R$101)) | F19: =IF($A19="","",D19+E19)
A20: MIN-006 | B20: =IFERROR(VLOOKUP($A20,'Cadastro de Máquinas'!$A$2:$J$101,2,FALSE),"") | C20: =IF($A20="","",SUMIF('Lançamentos'!$D$2:$D$101,$A20,'Lançamentos'!$J$2:$J$101)) | D20: =IF($A20="","",SUMIF('Lançamentos'!$D$2:$D$101,$A20,'Lançamentos'!$Q$2:$Q$101)) | E20: =IF($A20="","",SUMIF('Lançamentos'!$D$2:$D$101,$A20,'Lançamentos'!$R$2:$R$101)) | F20: =IF($A20="","",D20+E20)
A21: COM-007 | B21: =IFERROR(VLOOKUP($A21,'Cadastro de Máquinas'!$A$2:$J$101,2,FALSE),"") | C21: =IF($A21="","",SUMIF('Lançamentos'!$D$2:$D$101,$A21,'Lançamentos'!$J$2:$J$101)) | D21: =IF($A21="","",SUMIF('Lançamentos'!$D$2:$D$101,$A21,'Lançamentos'!$Q$2:$Q$101)) | E21: =IF($A21="","",SUMIF('Lançamentos'!$D$2:$D$101,$A21,'Lançamentos'!$R$2:$R$101)) | F21: =IF($A21="","",D21+E21)
A22: GUI-008 | B22: =IFERROR(VLOOKUP($A22,'Cadastro de Máquinas'!$A$2:$J$101,2,FALSE),"") | C22: =IF($A22="","",SUMIF('Lançamentos'!$D$2:$D$101,$A22,'Lançamentos'!$J$2:$J$101)) | D22: =IF($A22="","",SUMIF('Lançamentos'!$D$2:$D$101,$A22,'Lançamentos'!$Q$2:$Q$101)) | E22: =IF($A22="","",SUMIF('Lançamentos'!$D$2:$D$101,$A22,'Lançamentos'!$R$2:$R$101)) | F22: =IF($A22="","",D22+E22)
A23: ROL-009 | B23: =IFERROR(VLOOKUP($A23,'Cadastro de Máquinas'!$A$2:$J$101,2,FALSE),"") | C23: =IF($A23="","",SUMIF('Lançamentos'!$D$2:$D$101,$A23,'Lançamentos'!$J$2:$J$101)) | D23: =IF($A23="","",SUMIF('Lançamentos'!$D$2:$D$101,$A23,'Lançamentos'!$Q$2:$Q$101)) | E23: =IF($A23="","",SUMIF('Lançamentos'!$D$2:$D$101,$A23,'Lançamentos'!$R$2:$R$101)) | F23: =IF($A23="","",D23+E23)
A24: TRA-010 | B24: =IFERROR(VLOOKUP($A24,'Cadastro de Máquinas'!$A$2:$J$101,2,FALSE),"") | C24: =IF($A24="","",SUMIF('Lançamentos'!$D$2:$D$101,$A24,'Lançamentos'!$J$2:$J$101)) | D24: =IF($A24="","",SUMIF('Lançamentos'!$D$2:$D$101,$A24,'Lançamentos'!$Q$2:$Q$101)) | E24: =IF($A24="","",SUMIF('Lançamentos'!$D$2:$D$101,$A24,'Lançamentos'!$R$2:$R$101)) | F24: =IF($A24="","",D24+E24)
A27: Resumo por cidade/obra
A28: Cidade/obra | B28: Lançamentos | C28: Horas trabalhadas | D28: Combustível (R$) | E28: Manutenção (R$) | F28: Custo total (R$)
A29: São Paulo | B29: =COUNTIF('Lançamentos'!$G$2:$G$101,$A29) | C29: =SUMIF('Lançamentos'!$G$2:$G$101,$A29,'Lançamentos'!$J$2:$J$101) | D29: =SUMIF('Lançamentos'!$G$2:$G$101,$A29,'Lançamentos'!$Q$2:$Q$101) | E29: =SUMIF('Lançamentos'!$G$2:$G$101,$A29,'Lançamentos'!$R$2:$R$101) | F29: =D29+E29
A30: Campinas | B30: =COUNTIF('Lançamentos'!$G$2:$G$101,$A30) | C30: =SUMIF('Lançamentos'!$G$2:$G$101,$A30,'Lançamentos'!$J$2:$J$101) | D30: =SUMIF('Lançamentos'!$G$2:$G$101,$A30,'Lançamentos'!$Q$2:$Q$101) | E30: =SUMIF('Lançamentos'!$G$2:$G$101,$A30,'Lançamentos'!$R$2:$R$101) | F30: =D30+E30
A31: Belo Horizonte | B31: =COUNTIF('Lançamentos'!$G$2:$G$101,$A31) | C31: =SUMIF('Lançamentos'!$G$2:$G$101,$A31,'Lançamentos'!$J$2:$J$101) | D31: =SUMIF('Lançamentos'!$G$2:$G$101,$A31,'Lançamentos'!$Q$2:$Q$101) | E31: =SUMIF('Lançamentos'!$G$2:$G$101,$A31,'Lançamentos'!$R$2:$R$101) | F31: =D31+E31
A32: Curitiba | B32: =COUNTIF('Lançamentos'!$G$2:$G$101,$A32) | C32: =SUMIF('Lançamentos'!$G$2:$G$101,$A32,'Lançamentos'!$J$2:$J$101) | D32: =SUMIF('Lançamentos'!$G$2:$G$101,$A32,'Lançamentos'!$Q$2:$Q$101) | E32: =SUMIF('Lançamentos'!$G$2:$G$101,$A32,'Lançamentos'!$R$2:$R$101) | F32: =D32+E32
A33: Rio de Janeiro | B33: =COUNTIF('Lançamentos'!$G$2:$G$101,$A33) | C33: =SUMIF('Lançamentos'!$G$2:$G$101,$A33,'Lançamentos'!$J$2:$J$101) | D33: =SUMIF('Lançamentos'!$G$2:$G$101,$A33,'Lançamentos'!$Q$2:$Q$101) | E33: =SUMIF('Lançamentos'!$G$2:$G$101,$A33,'Lançamentos'!$R$2:$R$101) | F33: =D33+E33
A34: Porto Alegre | B34: =COUNTIF('Lançamentos'!$G$2:$G$101,$A34) | C34: =SUMIF('Lançamentos'!$G$2:$G$101,$A34,'Lançamentos'!$J$2:$J$101) | D34: =SUMIF('Lançamentos'!$G$2:$G$101,$A34,'Lançamentos'!$Q$2:$Q$101) | E34: =SUMIF('Lançamentos'!$G$2:$G$101,$A34,'Lançamentos'!$R$2:$R$101) | F34: =D34+E34
A35: Salvador | B35: =COUNTIF('Lançamentos'!$G$2:$G$101,$A35) | C35: =SUMIF('Lançamentos'!$G$2:$G$101,$A35,'Lançamentos'!$J$2:$J$101) | D35: =SUMIF('Lançamentos'!$G$2:$G$101,$A35,'Lançamentos'!$Q$2:$Q$101) | E35: =SUMIF('Lançamentos'!$G$2:$G$101,$A35,'Lançamentos'!$R$2:$R$101) | F35: =D35+E35
A36: Brasília | B36: =COUNTIF('Lançamentos'!$G$2:$G$101,$A36) | C36: =SUMIF('Lançamentos'!$G$2:$G$101,$A36,'Lançamentos'!$J$2:$J$101) | D36: =SUMIF('Lançamentos'!$G$2:$G$101,$A36,'Lançamentos'!$Q$2:$Q$101) | E36: =SUMIF('Lançamentos'!$G$2:$G$101,$A36,'Lançamentos'!$R$2:$R$101) | F36: =D36+E36

Sheet Instruções
A1: Guia de uso | Controle de Horímetro de Máquinas
A3: Planilha | B3: Como utilizar
A4: Lançamentos | B4: Registre uma leitura por máquina. Preencha as células amarelas; as células azuis são calculadas automaticamente.
A5: Cadastro de Máquinas | B5: Mantenha os códigos, os dados de identificação, o horímetro atual e o intervalo de manutenção sempre atualizados.
A6: Resumo | B6: Acompanhe indicadores, custos, utilização, status de manutenção e gráficos de apoio à decisão.
A8: Colunas de Lançamentos
A9: Coluna | B9: Orientação
A10: ID do lançamento | B10: Identificação sequencial do registro.
A11: Data da leitura | B11: Data em que o horímetro foi conferido.
A12: Máquina | B12: Preenchida automaticamente após a escolha do código.
A13: Código da máquina | B13: Selecione um código já cadastrado.
A14: Tipo de máquina | B14: Preenchido automaticamente pelo cadastro.
A15: Operador responsável | B15: Informe quem operou a máquina no período.
A16: Cidade/obra | B16: Preenchida automaticamente conforme a cidade base cadastrada.
A17: Horímetro inicial | B17: Informe a leitura no início da atividade.
A18: Horímetro final | B18: Informe a leitura final; não pode ser menor que a inicial.
A19: Horas trabalhadas | B19: Calculada pela diferença entre horímetro final e inicial.
A20: Meta diária de horas | B20: Informe a meta planejada para a atividade.
... A28: Observações | B28: Registre informações relevantes para acompanhamento da equipe.
A31: Boa prática
A32: Revise semanalmente os lançamentos com status Próxima ou Vencida e atualize o cadastro após cada manutenção concluída.
