Workbook

Sheet Calendário
A1: ID | B1: Data | C1: Hora início | D1: Hora fim | E1: Título do compromisso | F1: Categoria | G1: Local / Link | H1: Responsável | I1: Prioridade | J1: Status | K1: Duração (h) | L1: Dias até o evento | M1: Situação automática | N1: Observações
A2: 1 | B2: 46273 | C2: 0.33333333 | D2: 0.375 | E2: Reunião de planejamento | F2: Trabalho | G2: São Paulo | H2: João Silva | I2: =IF(F2="","",IFERROR(VLOOKUP(F2,'Instruções'!$A$13:$B$19,2,FALSE),"Média")) | J2: Concluído | K2: =IF(OR(C2="",D2=""),"",IFERROR((D2-C2)*24,0)) | L2: =IF(B2="","",B2-TODAY()) | M2: =IF(B2="","",IF(J2="Concluído","Concluído",IF(B2<TODAY(),"Atrasado",IF(B2=TODAY(),"Hoje","Agendado")))) | N2: Pauta revisada e próximos passos definidos.
A3: 2 | B3: 46274 | C3: 0.39583333 | D3: 0.4375 | E3: Consulta médica | F3: Saúde | G3: Belo Horizonte | H3: Maria Oliveira | I3: =IF(F3="","",IFERROR(VLOOKUP(F3,'Instruções'!$A$13:$B$19,2,FALSE),"Média")) | J3: Agendado | K3: =IF(OR(C3="",D3=""),"",IFERROR((D3-C3)*24,0)) | L3: =IF(B3="","",B3-TODAY()) | M3: =IF(B3="","",IF(J3="Concluído","Concluído",IF(B3<TODAY(),"Atrasado",IF(B3=TODAY(),"Hoje","Agendado")))) | N3: Levar documentos e resultados de exames.
A4: 3 | B4: 46275 | C4: 0.58333333 | D4: 0.60416667 | E4: Pagar conta de luz | F4: Finanças | G4: Curitiba | H4: Pedro Santos | I4: =IF(F4="","",IFERROR(VLOOKUP(F4,'Instruções'!$A$13:$B$19,2,FALSE),"Média")) | J4: Agendado | K4: =IF(OR(C4="",D4=""),"",IFERROR((D4-C4)*24,0)) | L4: =IF(B4="","",B4-TODAY()) | M4: =IF(B4="","",IF(J4="Concluído","Concluído",IF(B4<TODAY(),"Atrasado",IF(B4=TODAY(),"Hoje","Agendado")))) | N4: Conferir valor e data de vencimento.
A5: 4 | B5: 46276 | C5: 0.79166667 | D5: 0.85416667 | E5: Aula de inglês | F5: Estudos | G5: Rio de Janeiro | H5: Ana Souza | I5: =IF(F5="","",IFERROR(VLOOKUP(F5,'Instruções'!$A$13:$B$19,2,FALSE),"Média")) | J5: Agendado | K5: =IF(OR(C5="",D5=""),"",IFERROR((D5-C5)*24,0)) | L5: =IF(B5="","",B5-TODAY()) | M5: =IF(B5="","",IF(J5="Concluído","Concluído",IF(B5<TODAY(),"Atrasado",IF(B5=TODAY(),"Hoje","Agendado")))) | N5: Revisar lição da unidade anterior.
A6: 5 | B6: 46277 | C6: 0.5 | D6: 0.625 | E6: Aniversário da família | F6: Pessoal | G6: Salvador | H6: Carlos Pereira | I6: =IF(F6="","",IFERROR(VLOOKUP(F6,'Instruções'!$A$13:$B$19,2,FALSE),"Média")) | J6: Agendado | K6: =IF(OR(C6="",D6=""),"",IFERROR((D6-C6)*24,0)) | L6: =IF(B6="","",B6-TODAY()) | M6: =IF(B6="","",IF(J6="Concluído","Concluído",IF(B6<TODAY(),"Atrasado",IF(B6=TODAY(),"Hoje","Agendado")))) | N6: Confirmar presença e organizar presente.
A7: 6 | B7: 46279 | C7: 0.41666667 | D7: 0.5 | E7: Entrega do relatório mensal | F7: Trabalho | G7: Porto Alegre | H7: Juliana Costa | I7: =IF(F7="","",IFERROR(VLOOKUP(F7,'Instruções'!$A$13:$B$19,2,FALSE),"Média")) | J7: Agendado | K7: =IF(OR(C7="",D7=""),"",IFERROR((D7-C7)*24,0)) | L7: =IF(B7="","",B7-TODAY()) | M7: =IF(B7="","",IF(J7="Concluído","Concluído",IF(B7<TODAY(),"Atrasado",IF(B7=TODAY(),"Hoje","Agendado")))) | N7: Validar indicadores antes do envio.
A8: 7 | B8: 46280 | C8: 0.35416667 | D8: 0.41666667 | E8: Revisão do carro | F8: Casa e manutenção | G8: Campinas | H8: Rafael Almeida | I8: =IF(F8="","",IFERROR(VLOOKUP(F8,'Instruções'!$A$13:$B$19,2,FALSE),"Média")) | J8: Agendado | K8: =IF(OR(C8="",D8=""),"",IFERROR((D8-C8)*24,0)) | L8: =IF(B8="","",B8-TODAY()) | M8: =IF(B8="","",IF(J8="Concluído","Concluído",IF(B8<TODAY(),"Atrasado",IF(B8=TODAY(),"Hoje","Agendado")))) | N8: Solicitar orçamento de itens adicionais.
A9: 8 | B9: 46281 | C9: 0.27083333 | D9: 0.3125 | E9: Treino de corrida | F9: Saúde | G9: Recife | H9: Camila Ferreira | I9: =IF(F9="","",IFERROR(VLOOKUP(F9,'Instruções'!$A$13:$B$19,2,FALSE),"Média")) | J9: Agendado | K9: =IF(OR(C9="",D9=""),"",IFERROR((D9-C9)*24,0)) | L9: =IF(B9="","",B9-TODAY()) | M9: =IF(B9="","",IF(J9="Concluído","Concluído",IF(B9<TODAY(),"Atrasado",IF(B9=TODAY(),"Hoje","Agendado")))) | N9: Separar roupa e garrafa de água.
A10: 9 | B10: 46283 | C10: 0.66666667 | D10: 0.6875 | E10: Renovar assinatura de internet | F10: Finanças | G10: Fortaleza | H10: Lucas Rodrigues | I10: =IF(F10="","",IFERROR(VLOOKUP(F10,'Instruções'!$A$13:$B$19,2,FALSE),"Média")) | J10: Agendado | K10: =IF(OR(C10="",D10=""),"",IFERROR((D10-C10)*24,0)) | L10: =IF(B10="","",B10-TODAY()) | M10: =IF(B10="","",IF(J10="Concluído","Concluído",IF(B10<TODAY(),"Atrasado",IF(B10=TODAY(),"Hoje","Agendado")))) | N10: Comparar planos antes da renovação.
A11: 10 | B11: 46285 | C11: 0.29166667 | D11: 0.45833333 | E11: Viagem para Brasília | F11: Viagem | G11: Brasília | H11: Fernanda Lima | I11: =IF(F11="","",IFERROR(VLOOKUP(F11,'Instruções'!$A$13:$B$19,2,FALSE),"Média")) | J11: Agendado | K11: =IF(OR(C11="",D11=""),"",IFERROR((D11-C11)*24,0)) | L11: =IF(B11="","",B11-TODAY()) | M11: =IF(B11="","",IF(J11="Concluído","Concluído",IF(B11<TODAY(),"Atrasado",IF(B11=TODAY(),"Hoje","Agendado")))) | N11: Confirmar hospedagem e documentos.
I12: =IF(F12="","",IFERROR(VLOOKUP(F12,'Instruções'!$A$13:$B$19,2,FALSE),"Média")) | K12: =IF(OR(C12="",D12=""),"",IFERROR((D12-C12)*24,0)) | L12: =IF(B12="","",B12-TODAY()) | M12: =IF(B12="","",IF(J12="Concluído","Concluído",IF(B12<TODAY(),"Atrasado",IF(B12=TODAY(),"Hoje","Agendado"))))
I13: =IF(F13="","",IFERROR(VLOOKUP(F13,'Instruções'!$A$13:$B$19,2,FALSE),"Média")) | K13: =IF(OR(C13="",D13=""),"",IFERROR((D13-C13)*24,0)) | L13: =IF(B13="","",B13-TODAY()) | M13: =IF(B13="","",IF(J13="Concluído","Concluído",IF(B13<TODAY(),"Atrasado",IF(B13=TODAY(),"Hoje","Agendado"))))
I14: =IF(F14="","",IFERROR(VLOOKUP(F14,'Instruções'!$A$13:$B$19,2,FALSE),"Média")) | K14: =IF(OR(C14="",D14=""),"",IFERROR((D14-C14)*24,0)) | L14: =IF(B14="","",B14-TODAY()) | M14: =IF(B14="","",IF(J14="Concluído","Concluído",IF(B14<TODAY(),"Atrasado",IF(B14=TODAY(),"Hoje","Agendado"))))
I15: =IF(F15="","",IFERROR(VLOOKUP(F15,'Instruções'!$A$13:$B$19,2,FALSE),"Média")) | K15: =IF(OR(C15="",D15=""),"",IFERROR((D15-C15)*24,0)) | L15: =IF(B15="","",B15-TODAY()) | M15: =IF(B15="","",IF(J15="Concluído","Concluído",IF(B15<TODAY(),"Atrasado",IF(B15=TODAY(),"Hoje","Agendado"))))
I16: =IF(F16="","",IFERROR(VLOOKUP(F16,'Instruções'!$A$13:$B$19,2,FALSE),"Média")) | K16: =IF(OR(C16="",D16=""),"",IFERROR((D16-C16)*24,0)) | L16: =IF(B16="","",B16-TODAY()) | M16: =IF(B16="","",IF(J16="Concluído","Concluído",IF(B16<TODAY(),"Atrasado",IF(B16=TODAY(),"Hoje","Agendado"))))
I17: =IF(F17="","",IFERROR(VLOOKUP(F17,'Instruções'!$A$13:$B$19,2,FALSE),"Média")) | K17: =IF(OR(C17="",D17=""),"",IFERROR((D17-C17)*24,0)) | L17: =IF(B17="","",B17-TODAY()) | M17: =IF(B17="","",IF(J17="Concluído","Concluído",IF(B17<TODAY(),"Atrasado",IF(B17=TODAY(),"Hoje","Agendado"))))
I18: =IF(F18="","",IFERROR(VLOOKUP(F18,'Instruções'!$A$13:$B$19,2,FALSE),"Média")) | K18: =IF(OR(C18="",D18=""),"",IFERROR((D18-C18)*24,0)) | L18: =IF(B18="","",B18-TODAY()) | M18: =IF(B18="","",IF(J18="Concluído","Concluído",IF(B18<TODAY(),"Atrasado",IF(B18=TODAY(),"Hoje","Agendado"))))
I19: =IF(F19="","",IFERROR(VLOOKUP(F19,'Instruções'!$A$13:$B$19,2,FALSE),"Média")) | K19: =IF(OR(C19="",D19=""),"",IFERROR((D19-C19)*24,0)) | L19: =IF(B19="","",B19-TODAY()) | M19: =IF(B19="","",IF(J19="Concluído","Concluído",IF(B19<TODAY(),"Atrasado",IF(B19=TODAY(),"Hoje","Agendado"))))
I20: =IF(F20="","",IFERROR(VLOOKUP(F20,'Instruções'!$A$13:$B$19,2,FALSE),"Média")) | K20: =IF(OR(C20="",D20=""),"",IFERROR((D20-C20)*24,0)) | L20: =IF(B20="","",B20-TODAY()) | M20: =IF(B20="","",IF(J20="Concluído","Concluído",IF(B20<TODAY(),"Atrasado",IF(B20=TODAY(),"Hoje","Agendado"))))
I21: =IF(F21="","",IFERROR(VLOOKUP(F21,'Instruções'!$A$13:$B$19,2,FALSE),"Média")) | K21: =IF(OR(C21="",D21=""),"",IFERROR((D21-C21)*24,0)) | L21: =IF(B21="","",B21-TODAY()) | M21: =IF(B21="","",IF(J21="Concluído","Concluído",IF(B21<TODAY(),"Atrasado",IF(B21=TODAY(),"Hoje","Agendado"))))
I22: =IF(F22="","",IFERROR(VLOOKUP(F22,'Instruções'!$A$13:$B$19,2,FALSE),"Média")) | K22: =IF(OR(C22="",D22=""),"",IFERROR((D22-C22)*24,0)) | L22: =IF(B22="","",B22-TODAY()) | M22: =IF(B22="","",IF(J22="Concluído","Concluído",IF(B22<TODAY(),"Atrasado",IF(B22=TODAY(),"Hoje","Agendado"))))
I23: =IF(F23="","",IFERROR(VLOOKUP(F23,'Instruções'!$A$13:$B$19,2,FALSE),"Média")) | K23: =IF(OR(C23="",D23=""),"",IFERROR((D23-C23)*24,0)) | L23: =IF(B23="","",B23-TODAY()) | M23: =IF(B23="","",IF(J23="Concluído","Concluído",IF(B23<TODAY(),"Atrasado",IF(B23=TODAY(),"Hoje","Agendado"))))
... I101: =IF(F101="","",IFERROR(VLOOKUP(F101,'Instruções'!$A$13:$B$19,2,FALSE),"Média")) | K101: =IF(OR(C101="",D101=""),"",IFERROR((D101-C101)*24,0)) | L101: =IF(B101="","",B101-TODAY()) | M101: =IF(B101="","",IF(J101="Concluído","Concluído",IF(B101<TODAY(),"Atrasado",IF(B101=TODAY(),"Hoje","Agendado"))))

Sheet Resumo
A1: Resumo do Calendário
A3: Indicador | B3: Valor | D3: Categoria | E3: Compromissos | F3: Horas agendadas | H3: Status | I3: Compromissos
A4: Total de compromissos | B4: =COUNTA('Calendário'!$E$2:$E$101) | D4: Trabalho | E4: =COUNTIF('Calendário'!$F$2:$F$101,D4) | F4: =SUMIF('Calendário'!$F$2:$F$101,D4,'Calendário'!$K$2:$K$101) | H4: Agendado | I4: =COUNTIF('Calendário'!$J$2:$J$101,H4)
A5: Compromissos concluídos | B5: =COUNTIF('Calendário'!$J$2:$J$101,"Concluído") | D5: Saúde | E5: =COUNTIF('Calendário'!$F$2:$F$101,D5) | F5: =SUMIF('Calendário'!$F$2:$F$101,D5,'Calendário'!$K$2:$K$101) | H5: Concluído | I5: =COUNTIF('Calendário'!$J$2:$J$101,H5)
A6: Percentual concluído | B6: =IFERROR(COUNTIF('Calendário'!$J$2:$J$101,"Concluído")/COUNTA('Calendário'!$E$2:$E$101),0) | D6: Finanças | E6: =COUNTIF('Calendário'!$F$2:$F$101,D6) | F6: =SUMIF('Calendário'!$F$2:$F$101,D6,'Calendário'!$K$2:$K$101) | H6: Cancelado | I6: =COUNTIF('Calendário'!$J$2:$J$101,H6)
A7: Horas totais agendadas | B7: =SUM('Calendário'!$K$2:$K$101) | D7: Estudos | E7: =COUNTIF('Calendário'!$F$2:$F$101,D7) | F7: =SUMIF('Calendário'!$F$2:$F$101,D7,'Calendário'!$K$2:$K$101)
A8: Duração média | B8: =IFERROR(AVERAGE('Calendário'!$K$2:$K$101),0) | D8: Pessoal | E8: =COUNTIF('Calendário'!$F$2:$F$101,D8) | F8: =SUMIF('Calendário'!$F$2:$F$101,D8,'Calendário'!$K$2:$K$101)
A9: Eventos atrasados | B9: =COUNTIF('Calendário'!$M$2:$M$101,"Atrasado") | D9: Viagem | E9: =COUNTIF('Calendário'!$F$2:$F$101,D9) | F9: =SUMIF('Calendário'!$F$2:$F$101,D9,'Calendário'!$K$2:$K$101)
D10: Casa e manutenção | E10: =COUNTIF('Calendário'!$F$2:$F$101,D10) | F10: =SUMIF('Calendário'!$F$2:$F$101,D10,'Calendário'!$K$2:$K$101)

Sheet Instruções
A1: Instruções de uso do Calendário
A3: Como usar o calendário | D3: Cores e situação automática
A4: 1. Cadastre cada compromisso em uma linha da planilha Calendário. | D4: Vermelho: compromisso atrasado e ainda não concluído.
A5: 2. Preencha a data no padrão DD/MM/AAAA e informe horários de início e fim. | D5: Amarelo: compromisso previsto para hoje.
A6: 3. Use os filtros do cabeçalho para visualizar categorias, responsáveis, prioridades e status. | D6: Verde: compromisso concluído.
A7: 4. Selecione categorias e status pelas listas suspensas para manter o planejamento organizado. | D7: A situação automática considera data, data atual e status informado.
A8: 5. Atualize o calendário semanalmente para revisar pendências e próximos compromissos. | D8: A prioridade é sugerida conforme a categoria e pode ser ajustada quando necessário.
A12: Categoria | B12: Prioridade padrão
A13: Trabalho | B13: Alta
A14: Saúde | B14: Alta
A15: Finanças | B15: Alta
A16: Estudos | B16: Média
A17: Pessoal | B17: Baixa
A18: Viagem | B18: Média
A19: Casa e manutenção | B19: Média
